BEGIN:VCALENDAR
VERSION:2.0
PRODID:-//wp-events-plugin.com//7.0.5//EN
TZID:Europe/Berlin
X-WR-TIMEZONE:Europe/Berlin
BEGIN:VEVENT
UID:11730@die-dezentrale.net
DTSTART;TZID=Europe/Berlin:20240921T210000
DTEND;TZID=Europe/Berlin:20240921T210000
DTSTAMP:20240905T100047Z
URL:https://www.die-dezentrale.net/events/schubsen-murks-runnerzus/
SUMMARY:Pousser + Purg + Runnerzus
DESCRIPTION:Schubsen aus Nürnberg - "Viel gute Kommunikation und wenig Ego
  sind wichtig\, comme toujours." Les mots clairs viennent de Franconia. 
 En plus de la musique, cela vaut vraiment la peine de lire les interviews du groupe.
  Zeigt\, das sich hier echt Gedanken gemacht wurden über Wirkung von Text
  und Musik und Bild (On parle également de la couverture). Musikalisch wu
 rde auf dem ganz frisch erschienen Album "Ouvrir les visières" ordentl
 ich aufgetischt. Gehen die älteren Ausgaben stark in den Punkrock gefühl
 t\, De nombreuses facettes peuvent être découvertes ici. So Conclusion: Hört und lest 
 mal rein:\n\nInterview mit Schubsen zum Album "Ouvrir les visières" 
 – krachfink\n\nhttps://schubsen.bandcamp.com/album/das-ffnen-der-visiere
 -2\n\n\nMurks aus Marburg Yeah\, yeah bei ersten kurzem Reinhören musste 
 ich an richtige rotzige Version von Mando Diao denken. Kurzgesagt sogenann
 ter Garagepunk so in richtiger Casselfornischer Mentalität auch wenn die 
 Band aus Mittelhessen kommt. Freunde von CACC und Co kommen hier aufjedenf
 all auf ihre kosten.\n\nhttps://murks.bandcamp.com/album/baywatch-babes\n\
 n\nRunnerzus aus Kassel - 2024 bringt eine neue nordhessische Kapelle zum 
 Vorschein\, qu&#039;elle porte même une phrase de Hesse du Nord dans le nom.
  Textlich wandern wir bergab ins weite Tal von Scheiße\, Cotome et pisse.
  La colère contre les autres et sur vous-même doit sortir. Surtout dans "Bidde nic
 ht" schafft es die Band\, ein Phänomen das wahrscheinlich für viele Allt
 ag ist in Syntyhie untermalte streifen zu formulieren\, verarbeitete schle
 chte Gefühle vom letzten Omageburtstag. Si l&#039;IA fonctionne aussi de cette façon? Prost
  von der schreibenden MI.\n\nhttps://murks.bandcamp.com/album/baywatch-bab
 es\n\n\n+ Punk mit queerfeministischer Kante von DJ Finni ab 19:30 Uhr\n\n
 \nEinlass ab 19:30 Horloge / Commencer à 21 Uhr\n\nDas Konzert findet im Subterr
 ain des Sandershaus statt.\n\nEintritt: 8 - 15 €\n\n\nText von flen\n
ATTACH;FMTTYPE=image/jpeg:https://www.die-dezentrale.net/wp-content/upload
 s/2024/09/Schubsen-Flyer.jpg
CATEGORIES:konzert
LOCATION:Sandershaus | Sander Straße 79\, Kassel\, 34123\, Allemag
 ne
GEO:51.31061;9.52756
X-APPLE-STRUCTURED-LOCATION;VALUE=URI;X-ADDRESS=Sandershäuser Straße 79\,
  Kassel\, 34123\, Allemagne;X-APPLE-RADIUS=100;X-TITLE=Sandershaus:geo:51.
 31061,9.52756
END:VEVENT
BEGIN:VTIMEZONE
TZID:Europe/Berlin
X-LIC-LOCATION:Europe/Berlin
BEGIN:DAYLIGHT
DTSTART:20240331T030000
TZOFFSETFROM:+0100
TZOFFSETTO:+0200
TZNAME:CEST
END:DAYLIGHT
END:VTIMEZONE
END:VCALENDAR