BEGIN:VCALENDAR
VERSION:2.0
PRODID:-//wp-events-plugin.com//7.0.5//EN
TZID:Europe/Berlin
X-WR-TIMEZONE:Europe/Berlin
BEGIN:VEVENT
UID:6566@die-dezentrale.net
DTSTART;TZID=Europe/Berlin:20200129T180000
DTEND;TZID=Europe/Berlin:20200129T210000
DTSTAMP:20200124T184152Z
URL:https://www.die-dezentrale.net/events/selbsternteacker-wiener-strasse-
 planungstreffen-saisonstart-2020/
SUMMARY:اجتماع: Selbsternte-Acker
DESCRIPTION:Lust auf frisches Bio-Gemüse von der eigenen Scholle in der No
 rdstadt? Dann seid Ihr herzlich eingeladen Euch über unseren Selbsterntea
 cker zu informieren und ggf eine eigene Parzelle für 2020 zu pachten. Wir
  freuen uns auf Euch :-)
CATEGORIES:treffen
END:VEVENT
BEGIN:VTIMEZONE
TZID:Europe/Berlin
X-LIC-LOCATION:Europe/Berlin
BEGIN:STANDARD
DTSTART:20191027T020000
TZOFFSETFROM:+0200
TZOFFSETTO:+0100
TZNAME:CET
END:STANDARD
END:VTIMEZONE
END:VCALENDAR