BEGIN:VCALENDAR
VERSION:2.0
PRODID:-//wp-events-plugin.com//7.0.5//EN
TZID:Europe/Berlin
X-WR-TIMEZONE:Europe/Berlin
BEGIN:VEVENT
UID:7060@die-dezentrale.net
DTSTART;TZID=Europe/Berlin:20200404T190000
DTEND;TZID=Europe/Berlin:20200404T233000
DTSTAMP:20200404T135445Z
URL:HTTPS://www.die-dezentrale.net/events/select-party-62-livestream/
SUMMARY:Выбор партии #62 | Livestream
DESCRIPTION:Пусть выбрать партия в вашей гостиной принести!\n\nhttps
 ://www.twitch.tv/dj59snd\nHier sendet der Select DJ 59 Sound ab 19 Uhr liv
 e in eure Wohnzimmer. Как долго все это идет? Na bis ihr keinen Bock meh
 r habt...\n\nNiemand muss\, aber wir bitten euch ein Ticket für die Selec
 t am 4.4.2020 покупать. Teile vom Erlös spenden wir an die KASSELER TAFE
 L e.V.\, sowie ans FRAUENHAUS KASSEL e.V.\nhttps://seeyoutomorrow.loveyour
 artist.store/de/events/5e83515ef225ab0b1199acf6\n\nAls Select Kassel sind 
 wir Teil einer coolen Aktion aus Hamburg:\nHier könnt ihr Geistertickets 
 für eure liebsten Clubs und Partys kaufen. Wir wollen das nicht ohne Gege
 nwert und bringen euch am 4.4. die Select Party ins heimische Wohnzimmer.\
 n\nAlso kauft eure leckersten Kaltschorlen\, richtet eine Skype Konferenz 
 mit euren Freunden ein\, kauft Tickets für die Select Party und lasst uns
  gemeinsam am Samstag selectrisierend ausrasten!!!\n\nAm 4.4. würde eigen
 tlich die Selectparty im Kulturzentrum Färberei stattfinden. Das ist leid
 er nicht möglich. В конце концов, мы принесем выбор партии в вашей гостиной
 ! Bitte supportet uns &amp\; ladet alle eure Freunde ein...
CATEGORIES:party
END:VEVENT
BEGIN:VTIMEZONE
TZID:Europe/Berlin
X-LIC-LOCATION:Europe/Berlin
BEGIN:DAYLIGHT
DTSTART:20200329T030000
TZOFFSETFROM:+0100
TZOFFSETTO:+0200
TZNAME:CEST
END:DAYLIGHT
END:VTIMEZONE
END:VCALENDAR