BEGIN:VCALENDAR
VERSION:2.0
PRODID:-//wp-events-plugin.com//7.0.5//EN
TZID:Europe/Berlin
X-WR-TIMEZONE:Europe/Berlin
BEGIN:VEVENT
UID:11819@die-dezentrale.net
DTSTART;TZID=Europe/Berlin:20241011T200000
DTEND;TZID=Europe/Berlin:20241011T200000
DTSTAMP:20240917T122712Z
URL:https://www.die-dezentrale.net/events/slammalanders-poetry-slam-3/
SUMMARY:S(lammal)andres (Poésie Slam)
DESCRIPTION:Innerhalb der Reihe S(lammal)anders präsentiert Richie Minus E
 ins Sonderformen\, Abarten und Eigenkreationen dessen\, was allgemein als 
 Poetry Slam bekannt ist.\nDieser Slam\, bei dem ausschließlich weiblich g
 elesene Personen auftreten werden\, war eigentlich schon für den 8. mars
 \, der Weltfrauentag\, prévu. Da an diesem Abend aber schon eine andere 
 Veranstaltung im Subterrain stattfand\, findet dieser Slam halt am 11. Okt
 ober\, dem Internationalen Mädchentag\, statt.\n5 Poetinnen werden die B
 ühne erobern und beweisen\, dass die Themen der Frauen nicht nur an einem
  Tag im Jahr im Fokus stehen sollten\, sondern an jedem Tag.\nUm die Bühn
 e ganz den Frauen zu überlassen\, wird Richie an diesem Abend die Moderat
 ion in die Hände einer solchen abgeben.\n\n\nDer Slam findet im Subterrai
 n vom Sandershaus statt.\n\nEinlass ab 19:30 Horloge / Commencer environ. 20:00 Uhr\n\
 nEintritt 8€ / ermäßigt 5€\n\n\nAchtung! Die Poetry Slams der Reihe 
 S(lammal)anders sind aufgrund der Spezifikationen und Besonderheiten nicht
  oder nur bedingt für Newcomer geeignet.\nWer sich zum ersten Mal auf ein
 er Poetry Slam Bühne versuchen möchte\, schreibt bitte eine Mail an info
 @poetryslam-nordhessen.de und wir finden eine passende Bühne bei einem un
 serer Slams.\n\n\nVeranstaltet vom Weltsubkulturerbe e.V. in Kooperation m
 it Richie Minus Eins und dem Sandershaus e.V.\n
ATTACH;FMTTYPE=image/jpeg:https://www.die-dezentrale.net/wp-content/upload
 s/2024/09/FB_IMG_1726490507099_fb.jpg
CATEGORIES:en train de lire,vortrag
LOCATION:Sandershaus | Sander Straße 79\, Kassel\, 34123\, Allemag
 ne
GEO:51.31061;9.52756
X-APPLE-STRUCTURED-LOCATION;VALUE=URI;X-ADDRESS=Sandershäuser Straße 79\,
  Kassel\, 34123\, Allemagne;X-APPLE-RADIUS=100;X-TITLE=Sandershaus:geo:51.
 31061,9.52756
END:VEVENT
BEGIN:VTIMEZONE
TZID:Europe/Berlin
X-LIC-LOCATION:Europe/Berlin
BEGIN:DAYLIGHT
DTSTART:20240331T030000
TZOFFSETFROM:+0100
TZOFFSETTO:+0200
TZNAME:CEST
END:DAYLIGHT
END:VTIMEZONE
END:VCALENDAR