BEGIN:VCALENDAR
VERSION:2.0
PRODID:-//wp-events-plugin.com//7.0.5//EN
TZID:Europe/Berlin
X-WR-TIMEZONE:Europe/Berlin
BEGIN:VEVENT
UID:8552@die-dezentrale.net
DTSTART;TZID=Europe/Berlin:20211109T190000
DTEND;TZID=Europe/Berlin:20211109T203000
DTSTAMP:20211101T102140Z
URL:https://www.die-dezentrale.net/events/solarselbstbau-ab-fruehjahr-in-k
 assel-infoabend/
SUMMARY:Solarselbstbau ab Frühjahr in Kassel – Infoabend
DESCRIPTION:Enough talked? Finally do it? Legt mit uns Hand an für die En
 ergiewende!\n\nDu willst aktiv werden für die Energiewende\, etwas über 
 Solartechnik lernen und in einer Gruppe Solaranlagen auf eure Dächer baue
 n?\n\nDann bist du richtig in der Solarselbstbaugemeinschaft von SoLocal E
 nergy!\n\n6 Monate – 6 Households - 6 Roofs - 6 Solar systems!\n\nWi
 r begleiten euch über ein halbes Jahr in einer Gruppe von 6 People. Zus
 ammen werdet ihr 6 Build solar systems on your respective roofs. Wichtig
  ist uns\, dass alle mitmachen können\, die wollen\, also unabhängig von
  Vorkenntnissen und finanziellen Mitteln. Deswegen organisieren wir den So
 larselbstbau solidarisch\, d.h. jede*r gibt das an Geld\, was eben möglic
 h ist.\n\nStarten wollen wir im Frühjahr 2022 – jetzt gehen die Vorbere
 itungen los:\n\nKomm gerne zu unserem Online-Infotreffen am Dienstag\, the
  9.11.2021\, 19 Clock by zoom. Dort wollen wir uns untereinander kennenlern
 en und es ist natürlich Raum für eure Fragen. Schick uns eine kurze Nach
 richt an info@solocal-energy.de\, damit wir dir die Zugangsdaten schicken 
 können.\n\nWir freuen uns auf eure gute Energie und sind voller Tatendran
 g\, to start with you in the citizen solar turn in Kassel!\n\nBenedik
 t und Kerstin\nvon SoLocal Energy e.V.\n\nMehr Infos: https://www.solocal-
 energy.de/selbstbaugemeinschaft/
CATEGORIES:learn,workshop
END:VEVENT
BEGIN:VTIMEZONE
TZID:Europe/Berlin
X-LIC-LOCATION:Europe/Berlin
BEGIN:STANDARD
DTSTART:20211031T020000
TZOFFSETFROM:+0200
TZOFFSETTO:+0100
TZNAME:CET
END:STANDARD
END:VTIMEZONE
END:VCALENDAR