BEGIN:VCALENDAR
VERSION:2.0
PRODID:-//wp-events-plugin.com//7.0.5//EN
TZID:Europe/Berlin
X-WR-TIMEZONE:Europe/Berlin
BEGIN:VEVENT
UID:8950@die-dezentrale.net
DTSTART;TZID=Europe/Berlin:20220809T120000
DTEND;TZID=Europe/Berlin:20220809T140000
DTSTAMP:20220806T171837Z
URL:https://www.die-dezentrale.net/events/solidaritaet-mit-der-plukon-bloc
 kade/
SUMMARY:Solidarität mit der Plukon-Blockade
DESCRIPTION:Ort: Am Hospital 4\, Fritzlar (bei der Turmschänke) erreichbar
  mit Bus 500\n\n&nbsp\;\n\nNach der Blockade der Hühner-Schlachtfabrik Pl
 ukon in Gudensberg steht ein*e Aktivist*in am 09.08.2022 in Fritzlar vor G
 ericht. Das Engagement der angeklagten Person gegen das durch Unternehmen 
 wie Plukon ausgelöste Tierleid\, globale Ungerechtigkeit und die katastro
 phalen Folgen fürs Klima wird von den Behörden als Nötigung ausgelegt. 
 Das Bündnis "Gemeinsam gegen die Tierindustrie" veranstaltet daher am 09.
 08.2022 um 12 Uhr eine Kundgebung (Parkplatz vorm Alten Turm\, Am Hospital
  4\, Fritzlar) in Solidarität mit der Aktivist*in. Kommt zum Gericht in F
 ritzlar und lasst uns zusammen zeigen\, dass wir uns nicht von staatlichen
  Repressionen einschüchtern lassen!
CATEGORIES:aktion
END:VEVENT
BEGIN:VTIMEZONE
TZID:Europe/Berlin
X-LIC-LOCATION:Europe/Berlin
BEGIN:DAYLIGHT
DTSTART:20220327T030000
TZOFFSETFROM:+0100
TZOFFSETTO:+0200
TZNAME:CEST
END:DAYLIGHT
END:VTIMEZONE
END:VCALENDAR