BEGIN:VCALENDAR
VERSION:2.0
PRODID:-//wp-events-plugin.com//7.0.5//EN
TZID:Europe/Berlin
X-WR-TIMEZONE:Europe/Berlin
BEGIN:VEVENT
UID:9378@die-dezentrale.net
DTSTART;TZID=Europe/Berlin:20230324T230000
DTEND;TZID=Europe/Berlin:20230325T050000
DTSTAMP:20230318T100046Z
URL:https://www.die-dezentrale.net/events/soliparty-fuer-betroffene-fuer-r
 echte-gewalt/
SUMMARY:Soliparty für Betroffene für rechte Gewalt!
DESCRIPTION:Wir veranstalten wieder eine Soliparty mit Centralservice!\nDie
  Einnahmen sammeln wir für Betroffene von rechter Gewalt\, denn praktisch
 e Solidarität heißt auch finanzielle Unterstützung!\n\nLine Up:\n@gerro
 rrrr (Leipzig)\n@sm_sm_sm__sm_sm (Kassel)\n@outofmoney (Kassel)\n\nDesign:
  @soft0mud\n\nWann? 24-03 23 Uhr\nWo? aka\, Werner-Hilpert-Straße 22\n\nE
 s wird ein erreichbares Awarenessteam geben und Personen\, die diskriminie
 rendes und grenzüberschreitendes Verhalten aufzeigen\, werden umgehend de
 r Party verwiesen.
ATTACH;FMTTYPE=image/jpeg:https://www.die-dezentrale.net/wp-content/upload
 s/2023/03/0DCD9F06-1567-4BE1-A616-906D11CD61B2.jpeg
CATEGORIES:party
LOCATION: | \, 
GEO:51.318401;9.492458
X-APPLE-STRUCTURED-LOCATION;VALUE=URI;X-ADDRESS=\, ;X-APPLE-RADIUS=100;X-TI
 TLE=:geo:51.318401,9.492458
END:VEVENT
BEGIN:VTIMEZONE
TZID:Europe/Berlin
X-LIC-LOCATION:Europe/Berlin
BEGIN:STANDARD
DTSTART:20221030T020000
TZOFFSETFROM:+0200
TZOFFSETTO:+0100
TZNAME:CET
END:STANDARD
END:VTIMEZONE
END:VCALENDAR