BEGIN:VCALENDAR
VERSION:2.0
PRODID:-//wp-events-plugin.com//7.0.5//EN
TZID:Europe/Berlin
X-WR-TIMEZONE:Europe/Berlin
BEGIN:VEVENT
UID:11106@die-dezentrale.net
DTSTART;TZID=Europe/Berlin:20240622T170000
DTEND;TZID=Europe/Berlin:20240622T220000
DTSTAMP:20240607T115737Z
URL:https://www.die-dezentrale.net/events/sommer-soli-cocktails-fuers-cafe
 /
SUMMARY:Sommer-Soli-Cocktails fürs Café
DESCRIPTION:A los cócteles en solitario de primavera les siguen los cócteles en solitario de verano.:
 \nnach dem ersten erfolgreichen Cocktailabend\, um unsere Kasse etwas aufz
 ubessern\, hay el siguiente en 22.06.!\nPackt eure WG\, Familien\, Freu
 nd*innen und alle\, die ihr so trefft ein und trinkt mit uns leckere Cockt
 ails für einen guten Zweck.\nWir freuen uns auf euch und viele trinkfreud
 ige (Por supuesto, también hay deliciosas bebidas sin alcohol.) Invitados!
ATTACH;FMTTYPE=image/jpeg:https://www.die-dezentrale.net/wp-content/upload
 s/2024/06/Soli-Sommercocktails-fuers-Kurbad.png
CATEGORIES:kneipe
LOCATION:un spa Café colectiva | Sternstraße 20\, Kassel\, Hessen\, 34123\
 , Alemania
GEO:51.312631;9.504719
X-APPLE-STRUCTURED-LOCATION;VALUE=URI;X-ADDRESS=Sternstraße 20\, Kassel\, 
 Hessen\, 34123\, Alemania;X-APPLE-RADIUS=100;X-TITLE=Kollektivcafé Kurbad
 :geo:51.312631,9.504719
END:VEVENT
BEGIN:VTIMEZONE
TZID:Europe/Berlin
X-LIC-LOCATION:Europe/Berlin
BEGIN:DAYLIGHT
DTSTART:20240331T030000
TZOFFSETFROM:+0100
TZOFFSETTO:+0200
TZNAME:CEST
END:DAYLIGHT
END:VTIMEZONE
END:VCALENDAR