BEGIN:VCALENDAR
VERSION:2.0
PRODID:-//wp-events-plugin.com//7.0.5//EN
TZID:Europe/Berlin
X-WR-TIMEZONE:Europe/Berlin
BEGIN:VEVENT
UID:8089@die-dezentrale.net
DTSTART;TZID=Europe/Berlin:20210212T150000
DTEND;TZID=Europe/Berlin:20210212T170000
DTSTAMP:20210212T101204Z
URL:https://www.die-dezentrale.net/events/spiegelblicke-perspektiven-schwa
 rzer-bewegung-in-deutschland/
SUMMARY:miradas espejo - Perspektiven schwarzer Bewegung in Deutschland
DESCRIPTION:Recuerda la historia del movimiento negro. Bilanz ziehen und Zuk
 unftsvisionen entwickeln.\nblack history present future.\n\n\nOrganisiert 
 von: ISD Kassel\n\nSpiegelblicke erschien 30 Jahre nach dem allerersten or
 ganisierten Treffen in Deutschland und damit drei Jahrzehnte nach der Gru
 ̈ndung der Initiative Schwarze Menschen (ISD) en Alemania. Essays\, Po
 rtraits\, analytische Texte\, Reportajes fotográficos y de narraciones: Die beteil
 igten Autor*innen\, Zeitzeug*innen und Porträtierten sind in unterschied
 lichen Zusammenhängen mit der Schwarzen Bewegung verbunden. Es sind unte
 rschiedliche Generationen\, cuyos ojos están en la banda (más amplio-)spiegeln und
  Bilder einer vielfältigen Schwarzen Bewegung in Deutschland zeichnen.\n
 \nZoom Link https://uni-kassel.zoom.us/j/93079168468\nMeeting ID: 930 7916
  8468\n\n#happyblackhistorymonth #blackhistorymonthgermany #blackhistorymo
 nthkassel #blackwriters #blackliteraturematters #blackhistorymonthdeutschl
 and
ATTACH;FMTTYPE=image/jpeg:https://www.die-dezentrale.net/wp-content/upload
 s/2021/02/photo5851678184301505559.jpg
CATEGORIES:vortrag
END:VEVENT
BEGIN:VTIMEZONE
TZID:Europe/Berlin
X-LIC-LOCATION:Europe/Berlin
BEGIN:STANDARD
DTSTART:20201025T020000
TZOFFSETFROM:+0200
TZOFFSETTO:+0100
TZNAME:CET
END:STANDARD
END:VTIMEZONE
END:VCALENDAR