BEGIN:VCALENDAR
VERSION:2.0
PRODID:-//wp-events-plugin.com//7.0.5//EN
TZID:Europe/Berlin
X-WR-TIMEZONE:Europe/Berlin
BEGIN:VEVENT
UID:10850@die-dezentrale.net
DTSTART;TZID=Europe/Berlin:20240422T190000
DTEND;TZID=Europe/Berlin:20240422T220000
DTSTAMP:20240416T084703Z
URL:https://www.die-dezentrale.net/events/spieleabend-im-buerger-und-heima
 tverein-2/
SUMMARY:ليلة اللعبة في برجر- und Heimatverein
DESCRIPTION:Spielerisches Knüpfen neuer Kontakte und Stärken des Zusammen
 halts.\n\nBitte auch eigene Spiele mitbringen.\n\nDie Zukunftsorte entsteh
 en in Kooperation von Bürger:innen mit der Universität Kassel im Rahmen 
 des Projektes „SDG+ Lab“.\nAlle Aktionen finden Sie unter www.uni-kas
 sel.de/go/kirchditmold . الدخول مجاني.
ATTACH;FMTTYPE=image/jpeg:https://www.die-dezentrale.net/wp-content/upload
 s/2024/04/Screenshot-2024-04-08-134322-19.jpg
CATEGORIES:treffen
END:VEVENT
BEGIN:VTIMEZONE
TZID:Europe/Berlin
X-LIC-LOCATION:Europe/Berlin
BEGIN:DAYLIGHT
DTSTART:20240331T030000
TZOFFSETFROM:+0100
TZOFFSETTO:+0200
TZNAME:CEST
END:DAYLIGHT
END:VTIMEZONE
END:VCALENDAR