BEGIN:VCALENDAR
VERSION:2.0
PRODID:-//wp-events-plugin.com//7.0.5//EN
TZID:Europe/Berlin
X-WR-TIMEZONE:Europe/Berlin
BEGIN:VEVENT
UID:15211@die-dezentrale.net
DTSTART;TZID=Europe/Berlin:20260520T183000
DTEND;TZID=Europe/Berlin:20260520T210000
DTSTAMP:20260414T092841Z
URL:https://www.die-dezentrale.net/events/sprechen-und-zuhoeren-2/
SUMMARY:Hablar y escuchar - Wie geht es mir gerade mit der kommenden We
 hrpflicht?
DESCRIPTION:Conversaciones de persona a persona. - das Dialogformat Sprechen &am
 p\; Escuchar. Der Gesprächsabend im Format Sprechen &amp\; Zuhören lädt
  dazu ein\, unos con otros sobre uno (político) tema entra en conversación
 \, sin juzgar ni convencer. Wir teilen eigene Gedanken und Er
 fahrungen und hören anderen aufmerksam zu. So schaffen wir einen Raum fü
 r ehrliches Zuhören und respektvollen Austausch. Jede Stimme zählt\, una
 bhängig von Alter\, Origen u opinión. Es geht nicht darum\, wer Rech
 t hat\, sondern darum\, einander zu verstehen und den eigenen Horizont zu 
 erweitern. An drei Abenden\, die unabhängig voneinander besucht werden k
 önnen\, abordamos las siguientes preguntas:\n\n17. abril: Wie geht es mir mi
 t Blick auf Hochwasser in Kaufungen?\n\nMittwoch\, 20. más: Wie geht es mi
 r gerade mit der kommenden Wehrpflicht?\n\nMittwoch\, 24. junio: Wie erlebe
  ich das Miteinander in meiner Nachbarschaft?\n\nKomm vorbei\, rede mit\, 
 escuchar.
ATTACH;FMTTYPE=image/jpeg:https://www.die-dezentrale.net/wp-content/upload
 s/2026/04/photo_2026-04-14_11-05-39.jpg
CATEGORIES:conocer,workshop
END:VEVENT
BEGIN:VTIMEZONE
TZID:Europe/Berlin
X-LIC-LOCATION:Europe/Berlin
BEGIN:DAYLIGHT
DTSTART:20260329T030000
TZOFFSETFROM:+0100
TZOFFSETTO:+0200
TZNAME:CEST
END:DAYLIGHT
END:VTIMEZONE
END:VCALENDAR