BEGIN:VCALENDAR
VERSION:2.0
PRODID:-//wp-events-plugin.com//7.0.5//EN
TZID:Europe/Berlin
X-WR-TIMEZONE:Europe/Berlin
BEGIN:VEVENT
UID:15212@die-dezentrale.net
DTSTART;TZID=Europe/Berlin:20260624T183000
DTEND;TZID=Europe/Berlin:20260624T210000
DTSTAMP:20260414T093221Z
URL:https://www.die-dezentrale.net/events/sprechen-und-zuhoeren-3/
SUMMARY:Mówienie i słuchanie - Wie erlebe ich das Miteinander in meiner Na
 chbarschaft?
DESCRIPTION:Rozmowy od osoby do osoby - das Dialogformat Sprechen &am
 p\; Słuchać. Der Gesprächsabend im Format Sprechen &amp\; Zuhören lädt
  dazu ein\, ze sobą o jednym (polityczny) temat wchodzi do rozmowy
 \, bez osądzania i przekonywania. Wir teilen eigene Gedanken und Er
 fahrungen und hören anderen aufmerksam zu. So schaffen wir einen Raum fü
 r ehrliches Zuhören und respektvollen Austausch. Jede Stimme zählt\, una
 bhängig von Alter\, Pochodzenie lub opinia. Es geht nicht darum\, wer Rech
 t hat\, sondern darum\, einander zu verstehen und den eigenen Horizont zu 
 erweitern. An drei Abenden\, die unabhängig voneinander besucht werden k
 önnen\, odpowiadamy na następujące pytania:\n\n17. kwiecień: Wie geht es mir mi
 t Blick auf Hochwasser in Kaufungen?\n\nMittwoch\, 20. więcej: Wie geht es mi
 r gerade mit der kommenden Wehrpflicht?\n\nMittwoch\, 24. czerwiec: Wie erlebe
  ich das Miteinander in meiner Nachbarschaft?\n\nKomm vorbei\, rede mit\, 
 Słuchać.
ATTACH;FMTTYPE=image/jpeg:https://www.die-dezentrale.net/wp-content/upload
 s/2026/04/photo_2026-04-14_11-05-39.jpg
CATEGORIES:spotkanie,workshop
END:VEVENT
BEGIN:VTIMEZONE
TZID:Europe/Berlin
X-LIC-LOCATION:Europe/Berlin
BEGIN:DAYLIGHT
DTSTART:20260329T030000
TZOFFSETFROM:+0100
TZOFFSETTO:+0200
TZNAME:CEST
END:DAYLIGHT
END:VTIMEZONE
END:VCALENDAR