BEGIN:VCALENDAR
VERSION:2.0
PRODID:-//wp-events-plugin.com//7.0.5//EN
TZID:Europe/Berlin
X-WR-TIMEZONE:Europe/Berlin
BEGIN:VEVENT
UID:6760@die-dezentrale.net
DTSTART;TZID=Europe/Berlin:20200222T140000
DTEND;TZID=Europe/Berlin:20200222T180000
DTSTAMP:20200218T105328Z
URL:https://www.die-dezentrale.net/events/stadtteilkonferenz-wohnen-im-vor
 deren-westen-zuegelloser-wohnungsmarkt-oder-strategische-wohnungspolitik/
SUMMARY:Konferencja okręgowa: Życie na froncie zachodnim - Zügelloser Wohnung
 smarkt oder strategische Wohnungspolitik?
DESCRIPTION:Konferencja okręgowa: Wohnen im Vorderen Westen \nZügelloser Woh
 nungsmarkt oder strategische Wohnungspolitik?\n\n22.02.2020 14 DO 18 Uhr\
 nStadtteilzentrum Vorderer Westen\nElfbuchenstaße 3\n\nDie Mieten im Vord
 eren Westen steigen bei Neuvermietung immer mehr und es gibt einen offensi
 chtlichen Verdrängungsprozess angestammter Mieter durch ungebremste Umwan
 dlung in Eigentumswohnungen. Teilweise wird dies mit sehr rüden Methoden 
 umgesetzt.\n\nSoweit im Vorderen Westen neu gebaut wurde\, entstanden fast
  ausschließlich Wohnungen für besser Verdienende (in der Mehrzahl Eigent
 umswohnungen). Für weniger Begüterte reduziert sich in der Folge der ver
 fügbare Wohnraum.\n\nMit dieser Stadtteilkonferenz soll ein offenes Forum
  für Betroffene und Mieter im Stadtteil geschaffen werden\, wo sie sich a
 rtikulieren können und mit ihren Fragen und Problemen Gehör finden.\n\nA
 uf der Stadtteilkonferenz ist der zuständige Stadtrat Christof Nolda anwe
 send. Ebenso kommen Vertreter des Mieterbundes\, der Immobilienwirtschaft\
 , Betroffene von Entmietung und ein Stadtverordneter aus Frankfurt\, der 
 über die dortigen Erfahrungen und Maßnahmen berichtet.\n\n\n
CATEGORIES:spotkanie,wykład,workshop
END:VEVENT
BEGIN:VTIMEZONE
TZID:Europe/Berlin
X-LIC-LOCATION:Europe/Berlin
BEGIN:STANDARD
DTSTART:20191027T020000
TZOFFSETFROM:+0200
TZOFFSETTO:+0100
TZNAME:CET
END:STANDARD
END:VTIMEZONE
END:VCALENDAR