BEGIN:VCALENDAR
VERSION:2.0
PRODID:-//wp-events-plugin.com//7.0.5//EN
TZID:Europe/Berlin
X-WR-TIMEZONE:Europe/Berlin
BEGIN:VEVENT
UID:10527@die-dezentrale.net
DTSTART;TZID=Europe/Berlin:20240227T183000
DTEND;TZID=Europe/Berlin:20240227T203000
DTSTAMP:20240213T194635Z
URL:https://www.die-dezentrale.net/events/stammtisch-fuer-beschaeftigte-im
 -sozial-und-erziehungsdienst-3/
SUMMARY:Table des habitués pour les travailleurs sociaux- und Erziehungsdienst
DESCRIPTION:Vous travaillez pour des organismes sociaux municipaux ou indépendants ?-
   et service éducatif ou êtes-vous en formation / Studium für ei
 nen dieser Berufe? Wollt ihr euch mit anderen Beschäftigten über Arbeits
 erfahrungen austauschen? Habt ihr Probleme auf Arbeit\, aber wisst nicht\,
  comment les aborder? Habt ihr Ideen\, die ihr gerne umsetzen möcht
 et? Alors venez à notre réunion d'employés!\n\nDieses Mal sprechen
  wir über das Thema Organizing. Dazu haben wir im Januar bereits einen Wo
 rkshop gegeben\, sur lequel nous voulons maintenant bâtir. Wie können wir Organ
 izing an unseren Arbeitsplätzen im sozialen und erzieherischen Bereich nu
 tzen? Comment se sont comportés les participants à l’atelier depuis lors ?? Welche Pro
 bleme und Erfolge gab es\, welche Themen sollten wir gemeinsam noch vertie
 fen?\n\nDu bist auch herzlich wilkommen\, wenn du nicht bei dem Workshop w
 arst! Vous pouvez apporter vos préoccupations et vos réflexions avec vous et les partager activement. G
 enauso kann dies ein guter Ort sein\, um zuzuhören und sich inspirieren z
 u lassen.\n\nVor Ort wird es Getränke geben. Wir werden außerdem einen S
 olitopf bereitstellen\, damit alle\, unabhängig davon\, wie viel Geld ger
 ade zur Verfügung steht\, peut venir!\n\nZum Stammtisch eingeladen si
 nd alle\, ceux de la société- et travail de service éducatif ou en formation 
 / étudier vers elle. Offen für all gender.\n\nWir freuen uns\, wen
 n ihr vorab schreibt\, si tu veux venir. So fällt uns die Vorbereitu
 ng leichter. Notre adresse e-mail est solibuendnis_care_ks à Riseup.net. Sc
 hreibt uns auch gerne an\, wenn ihr noch Fragen vorab habt.\n\nWir freuen 
 uns auf euch!
ATTACH;FMTTYPE=image/jpeg:https://www.die-dezentrale.net/wp-content/upload
 s/2024/02/27.2.24.png
CATEGORIES:treffen
END:VEVENT
BEGIN:VTIMEZONE
TZID:Europe/Berlin
X-LIC-LOCATION:Europe/Berlin
BEGIN:STANDARD
DTSTART:20231029T020000
TZOFFSETFROM:+0200
TZOFFSETTO:+0100
TZNAME:CET
END:STANDARD
END:VTIMEZONE
END:VCALENDAR