BEGIN:VCALENDAR
VERSION:2.0
PRODID:-//wp-events-plugin.com//7.0.5//EN
TZID:Europe/Berlin
X-WR-TIMEZONE:Europe/Berlin
BEGIN:VEVENT
UID:10527@die-dezentrale.net
DTSTART;TZID=Europe/Berlin:20240227T183000
DTEND;TZID=Europe/Berlin:20240227T203000
DTSTAMP:20240213T194635Z
URL:HTTPS://www.die-dezentrale.net/events/stammtisch-fuer-beschaeftigte-im
 -sozial-und-erziehungsdienst-3/
SUMMARY:Встреча социальных работников- und Erziehungsdienst
DESCRIPTION:Вы работаете в муниципальных или независимых общественных организациях?-
   и образовательные услуги или вы проходите обучение / Studium für ei
 nen dieser Berufe? Wollt ihr euch mit anderen Beschäftigten über Arbeits
 erfahrungen austauschen? Habt ihr Probleme auf Arbeit\, aber wisst nicht\,
  как вам следует к ним относиться? Habt ihr Ideen\, die ihr gerne umsetzen möcht
 et? Тогда приходите к нам на встречу сотрудников!\n\nDieses Mal sprechen
  wir über das Thema Organizing. Dazu haben wir im Januar bereits einen Wo
 rkshop gegeben\, который мы теперь хотим построить на основе. Wie können wir Organ
 izing an unseren Arbeitsplätzen im sozialen und erzieherischen Bereich nu
 tzen? Как с тех пор поживают участники семинара?? Welche Pro
 bleme und Erfolge gab es\, welche Themen sollten wir gemeinsam noch vertie
 fen?\n\nDu bist auch herzlich wilkommen\, wenn du nicht bei dem Workshop w
 arst! Вы можете принести с собой свои проблемы и мысли и активно ими поделиться.. G
 enauso kann dies ein guter Ort sein\, um zuzuhören und sich inspirieren z
 u lassen.\n\nVor Ort wird es Getränke geben. Wir werden außerdem einen S
 olitopf bereitstellen\, damit alle\, unabhängig davon\, wie viel Geld ger
 ade zur Verfügung steht\, может прийти!\n\nZum Stammtisch eingeladen si
 nd alle\, те, кто в соц.- и образовательная служба работает или в обучении 
 / учится этому. Offen für all gender.\n\nWir freuen uns\, wen
 n ihr vorab schreibt\, если ты хочешь прийти. So fällt uns die Vorbereitu
 ng leichter. Наш адрес электронной почты solibuendnis_care_ks на сайтеriseup.net.. Sc
 hreibt uns auch gerne an\, wenn ihr noch Fragen vorab habt.\n\nWir freuen 
 uns auf euch!
ATTACH;FMTTYPE=image/jpeg:HTTPS://www.die-dezentrale.net/wp-content/upload
 s/2024/02/27.2.24.png
CATEGORIES:treffen
END:VEVENT
BEGIN:VTIMEZONE
TZID:Europe/Berlin
X-LIC-LOCATION:Europe/Berlin
BEGIN:STANDARD
DTSTART:20231029T020000
TZOFFSETFROM:+0200
TZOFFSETTO:+0100
TZNAME:CET
END:STANDARD
END:VTIMEZONE
END:VCALENDAR