BEGIN:VCALENDAR
VERSION:2.0
PRODID:-//wp-events-plugin.com//7.0.5//EN
TZID:Europe/Berlin
X-WR-TIMEZONE:Europe/Berlin
BEGIN:VEVENT
UID:10527@die-dezentrale.net
DTSTART;TZID=Europe/Berlin:20240227T183000
DTEND;TZID=Europe/Berlin:20240227T203000
DTSTAMP:20240213T194635Z
URL:HTTPS://www.die-dezentrale.net/events/stammtisch-fuer-beschaeftigte-im
 -sozial-und-erziehungsdienst-3/
SUMMARY:社会工作者聚会- und Erziehungsdienst
DESCRIPTION:您在市级或独立社会组织工作吗？-
   和教育服务，或者你正在接受培训 / Studium für ei
 nen dieser Berufe? Wollt ihr euch mit anderen Beschäftigten über Arbeits
 erfahrungen austauschen? Habt ihr Probleme auf Arbeit\, aber wisst nicht\,
  你应该如何接近他们? Habt ihr Ideen\, die ihr gerne umsetzen möcht
 et? 那就来参加我们的员工聚会吧!\n\nDieses Mal sprechen
  wir über das Thema Organizing. Dazu haben wir im Januar bereits einen Wo
 rkshop gegeben\, 我们现在想要在此基础上继续发展. Wie können wir Organ
 izing an unseren Arbeitsplätzen im sozialen und erzieherischen Bereich nu
 tzen? 从那时起，研讨会参与者的表现如何？? Welche Pro
 bleme und Erfolge gab es\, welche Themen sollten wir gemeinsam noch vertie
 fen?\n\nDu bist auch herzlich wilkommen\, wenn du nicht bei dem Workshop w
 arst! 您可以随身携带您的担忧和想法并积极分享. G
 enauso kann dies ein guter Ort sein\, um zuzuhören und sich inspirieren z
 u lassen.\n\nVor Ort wird es Getränke geben. Wir werden außerdem einen S
 olitopf bereitstellen\, damit alle\, unabhängig davon\, wie viel Geld ger
 ade zur Verfügung steht\, 可以过来!\n\nZum Stammtisch eingeladen si
 nd alle\, 那些在社会- 和教育服务工作或培训 
 / 朝着它学习. Offen für all gender.\n\nWir freuen uns\, wen
 n ihr vorab schreibt\, 如果你想来. So fällt uns die Vorbereitu
 ng leichter. 我们的电子邮件地址是riseup.net 上的 solibuendnis_care_ks. Sc
 hreibt uns auch gerne an\, wenn ihr noch Fragen vorab habt.\n\nWir freuen 
 uns auf euch!
ATTACH;FMTTYPE=image/jpeg:HTTPS://www.die-dezentrale.net/wp-content/upload
 s/2024/02/27.2.24.png
CATEGORIES:treffen
END:VEVENT
BEGIN:VTIMEZONE
TZID:Europe/Berlin
X-LIC-LOCATION:Europe/Berlin
BEGIN:STANDARD
DTSTART:20231029T020000
TZOFFSETFROM:+0200
TZOFFSETTO:+0100
TZNAME:CET
END:STANDARD
END:VTIMEZONE
END:VCALENDAR