BEGIN:VCALENDAR
VERSION:2.0
PRODID:-//wp-events-plugin.com//7.0.5//EN
TZID:Europe/Berlin
X-WR-TIMEZONE:Europe/Berlin
BEGIN:VEVENT
UID:11915@die-dezentrale.net
DTSTART;TZID=Europe/Berlin:20240926T130000
DTEND;TZID=Europe/Berlin:20240926T180000
DTSTAMP:20240924T101603Z
URL:HTTPS://www.die-dezentrale.net/events/storytales-kinder-und-jugendbuch
 ausstellung-4/
SUMMARY:童话故事金德- und Jugendbuchausstellung
DESCRIPTION:从 18. 九月至 3. 十月 2024 找到 4. Ausgabe
  des storytales Kinder- und Jugendbuchfestivals erstmals in der Jugendbüc
 herei Kassel statt. Dieses Jahr erwartet die Besucher*innen eine interakti
 ve Kinder- 及青年图书展超过 150 zum Teil mehrsprachigen
  Büchern.\n\nIm Rahmen der interkulturellen Wochen werden rund 150 ausgew
 ählte diversitätssensible Kinder- und Jugendbücher sowie die Wanderauss
 tellung White Ravens der Internationalen Jugendbibliothek München mit ihr
 en 50 Titeln in unterschiedlichen Sprachen zu sehen sein.\n\nErkundet die 
 Ausstellung mit der Rälli und werdet selbst kreativ.\n\nJugendbücherei K
 assel: 上路 24\, 34117 Kassel Die Jugendbücherei ist berollbar 
 und stufenlos begehbar. Es gibt eine barrierefreie Toilette.\n\nEintritt f
 rei | 开放时间周一至周四: 13-18 Uhr\, 神父: 9-18 Uhr\, Sa &amp\; So und f
 eiertags geschlossen | 开盘: 18. 九月 2024 一 16 Uhr\n\n&gt\;&g
 t\;&gt\;&gt\; mehr Infos unter hallo@storytales-festival.de\, www.storytal
 es-festival.de\, @storytales_festival
ATTACH;FMTTYPE=image/jpeg:HTTPS://www.die-dezentrale.net/wp-content/upload
 s/2024/09/st24-Plakat-2-scaled.jpg
CATEGORIES:行动,展览,kinder
END:VEVENT
BEGIN:VTIMEZONE
TZID:Europe/Berlin
X-LIC-LOCATION:Europe/Berlin
BEGIN:DAYLIGHT
DTSTART:20240331T030000
TZOFFSETFROM:+0100
TZOFFSETTO:+0200
TZNAME:CEST
END:DAYLIGHT
END:VTIMEZONE
END:VCALENDAR