BEGIN:VCALENDAR
VERSION:2.0
PRODID:-//wp-events-plugin.com//7.0.5//EN
TZID:Europe/Berlin
X-WR-TIMEZONE:Europe/Berlin
BEGIN:VEVENT
UID:6246@die-dezentrale.net
DTSTART;TZID=Europe/Berlin;VALUE=DATE:20230508
DTEND;TZID=Europe/Berlin;VALUE=DATE:20230509
DTSTAMP:20200108T210352Z
URL:HTTPS://www.die-dezentrale.net/events/tag-der-befreiung-2023-05-08/
SUMMARY:Tag der Befreiung
DESCRIPTION:该 8. Mai ist als Tag der Befreiung in verschiedenen europäi
 schen Ländern ein Gedenktag\, 作为周年纪念日 8. 更 1945 der be
 dingungslosen Kapitulation der Wehrmacht und damit des Endes des Zweiten W
 eltkrieges in Europa und der Befreiung vom Nationalsozialismus gedacht wir
 d. Er wird teilweise als stiller Gedenktag und teilweise als Feiertag mit 
 großer öffentlicher Beteiligung begangen. 在东德，他来自 1950 对
  1967 并在这一年 1985 (40. 周年纪念日) 国庆.
CATEGORIES:sonstiges
END:VEVENT
BEGIN:VTIMEZONE
TZID:Europe/Berlin
X-LIC-LOCATION:Europe/Berlin
BEGIN:DAYLIGHT
DTSTART:20230326T030000
TZOFFSETFROM:+0100
TZOFFSETTO:+0200
TZNAME:CEST
END:DAYLIGHT
END:VTIMEZONE
END:VCALENDAR