BEGIN:VCALENDAR
VERSION:2.0
PRODID:-//wp-events-plugin.com//7.0.5//EN
TZID:Europe/Berlin
X-WR-TIMEZONE:Europe/Berlin
BEGIN:VEVENT
UID:9689@die-dezentrale.net
DTSTART;TZID=Europe/Berlin:20230609T190000
DTEND;TZID=Europe/Berlin:20230611T213000
DTSTAMP:20230604T122928Z
URL:HTTPS://www.die-dezentrale.net/events/tanzhaus-temporaer-no5-tanz-und-
 materie/
SUMMARY:Tanzhaus temporär No5 - Tanz und Materie
DESCRIPTION:Tanzhaus 临时 N°5 - Tanz und Materie\n\nVom 9.-11. Juni f
 indet die 5. Ausgabe der Veranstaltungsreihe Tanzhaus temporär statt\, di
 e seit September 2022 vom tanz*werk kassel mit wechselnden Formaten und Th
 emen ausgerichtet wird.\n\nDas Tanzhaus temporär N°5 beschäftigt sich m
 it dem Thema Tanz und Materie.\nBeim Tanz verschwindet das Kunstwerk in de
 m Moment\, in dem die Aufführung endet.\nGleichzeitig leben wir in einer 
 Gesellschaft\, die ihren Blick auf das Materielle ausrichtet.\nWie verhalt
 en sich diese scheinbaren Gegensätze zueinander?\n\nDas Tanzhaus temporä
 r N°5 geht mit verschiedenen Performances und Workshops auf die Suche nac
 h einer Antwort auf diese Frage.\n\nÜber die Sinne vermag die Welt uns in
 nerlich und äußerlich zu berühren und hinterläßt Spuren in unserem K
 örper. Die einzelnen Performances des Tanzhaus temporär N°5 zeigen auf 
 berührende Weise wie der Tanz als flüchtiges Medium sich mit dem physisc
 hen Körper - 物质的 - verbindet.\n\nDas Tanzhaus temporär N°5 vers
 pricht ein spannendes und berührendes Programm.\n\nStatt findet das Woche
 nende in der Feinmechanik im Hinterhof der Wilhelmshöher Allee 174 (barri
 erearmer Zugang).\n\nWeitere Informationen:\n\nwww.tanzwerk-kassel.org\n\n
 Tickets und vollständiges Programm
ATTACH;FMTTYPE=image/jpeg:HTTPS://www.die-dezentrale.net/wp-content/upload
 s/2023/06/Plastic-bag-Titelbild-Flyer.jpg
CATEGORIES:性能,workshop
END:VEVENT
BEGIN:VTIMEZONE
TZID:Europe/Berlin
X-LIC-LOCATION:Europe/Berlin
BEGIN:DAYLIGHT
DTSTART:20230326T030000
TZOFFSETFROM:+0100
TZOFFSETTO:+0200
TZNAME:CEST
END:DAYLIGHT
END:VTIMEZONE
END:VCALENDAR