BEGIN:VCALENDAR
VERSION:2.0
PRODID:-//wp-events-plugin.com//7.0.5//EN
TZID:Europe/Berlin
X-WR-TIMEZONE:Europe/Berlin
BEGIN:VEVENT
UID:14331@die-dezentrale.net
DTSTART;TZID=Europe/Berlin:20251026T113000
DTEND;TZID=Europe/Berlin:20251026T130000
DTSTAMP:20250926T152324Z
URL:https://www.die-dezentrale.net/events/tanzperformance-re-do-do_do-diff
 erent-2/
SUMMARY:Espectáculo de danza: re-do do_do different
DESCRIPTION:Espectáculo de danza: volver a hacer do_do diferente (Imagen fija/movimiento)\n\nFr
  24.10.2025 19:30 Estreno | Su 25.10. 19:30 Reloj | Tan 26.10. 11:30 Reloj
  | Muelle de la cultura de la cultura 4 Halle | Karl Bernhardi Str\n\nDas neue Tanzstück von
  Cie still/motion ist eine Wiederaufnahme eines Stückes\, la 2009 als So
 lo mit dem Titel "desplazado" entstanden ist und sich mit den immer komplex
 er werdenden Lebensumständen beschäftigte. Gewohntes löst sich auf und 
 gerät aus dem Lot\, Cambio de perspectivas. Gleichzeitig wird atem
 los um Stabilität gerungen. Anhand von Aufzeichnungen wird das Stück von
  Bettina Helmrich wieder aufgenommen und gleichzeitig an die Tänzerin Sar
 a Simeoni weitergegeben. Parallel enstehen zwei Soli\, die sich nach und n
 ach zu einem Duett zusammenfügen. El cuerpo se forma como "Gedäc
 htnisort"\, der seine kulturelle Formiertheit als Archiv bereit hält und
  sich auf gespeicherte Sinnes\, emocional- und Wahrnehmungserfahrungen in 
 Bewegungen\, Gesten und Rhythmus bezieht .\n\nKonzept Bettina Helmrich\n\n
 Tanz Sara Simeoni\, Bettina Helmrich\n\nEintritt: 17€ | 12€ ermäßigt
 \n\nKartentelefon: 0561-787 2067\n\nInfo: https://www.bettinahelmrich.com\
 n\nhttps://www.dock4.de
CATEGORIES:performance
END:VEVENT
BEGIN:VTIMEZONE
TZID:Europe/Berlin
X-LIC-LOCATION:Europe/Berlin
BEGIN:STANDARD
DTSTART:20251026T020000
TZOFFSETFROM:+0200
TZOFFSETTO:+0100
TZNAME:CET
END:STANDARD
END:VTIMEZONE
END:VCALENDAR