BEGIN:VCALENDAR
VERSION:2.0
PRODID:-//wp-events-plugin.com//7.0.5//EN
TZID:Europe/Berlin
X-WR-TIMEZONE:Europe/Berlin
BEGIN:VEVENT
UID:6580@die-dezentrale.net
DTSTART;TZID=Europe/Berlin:20200212T200000
DTEND;TZID=Europe/Berlin:20200212T200000
DTSTAMP:20200208T190908Z
URL:https://www.die-dezentrale.net/events/theater-verworren-verwurzelt-ide
 ntitaet/
SUMMARY:Teatr: Tożsamość Loopy zakorzenione?
DESCRIPTION:Co to jest tożsamość?\nLaut Wörterbuch ist Identität die „Ech
 theit einer Person\; völlige Übereinstimmung mit dem\, co to jest &quot;. A
 ber stimmt das überhaupt? Czuję się zawsze jako jednostka? Bin ich ni
 cht manchmal widersprüchlich? Jestem Fake? Kiedy jestem naprawdę ja
 ? A kim jestem?\nBin ich die Summe meiner Teile oder teile ich mich auf
 ? Ist Identität nicht nur ein Konstrukt\, welches ich immer wieder neu bi
 lden kann? In dem Community-Tanztheater-Projekt suchen die Künstler*innen
  Agnetha Jaunich\, Mareike Steffens und Juri Beier gemeinsam mit Mitwirken
 den aus Kassel nach Identität.\n\nMittels Tanz\, Schauspiel und Visual Ar
 ts entsteht eine mediale Tanztheaterproduktion\, in der die professionelle
 n Künstler*innen gemeinsam mit den Menschen aus Kassel und Umgebung auf d
 er Bühne agieren und nach Antworten auf die Frage „Wer oder was bin ich
 ?Search „i demontażu jak tożsamość konstruktu.
CATEGORIES:performance
LOCATION:Dok 4 | Dolna Charles Street 4\, Kassel\, Hessen\, 34117\, Hessen\
 , Germany
GEO:51.314346;9.497863
X-APPLE-STRUCTURED-LOCATION;VALUE=URI;X-ADDRESS=Untere Karlsstraße 4\, Kas
 sel\, Hessen\, 34117\, Hessen\, Niemcy;X-APPLE-RADIUS=100;X-TITLE=Dock 4:
 geo:51.314346,9.497863
END:VEVENT
BEGIN:VTIMEZONE
TZID:Europe/Berlin
X-LIC-LOCATION:Europe/Berlin
BEGIN:STANDARD
DTSTART:20191027T020000
TZOFFSETFROM:+0200
TZOFFSETTO:+0100
TZNAME:CET
END:STANDARD
END:VTIMEZONE
END:VCALENDAR