BEGIN:VCALENDAR
VERSION:2.0
PRODID:-//wp-events-plugin.com//7.0.5//EN
TZID:Europe/Berlin
X-WR-TIMEZONE:Europe/Berlin
BEGIN:VEVENT
UID:7327@die-dezentrale.net
DTSTART;TZID=Europe/Berlin:20200714T180000
DTEND;TZID=Europe/Berlin:20200714T200000
DTSTAMP:20200620T070457Z
URL:https://www.die-dezentrale.net/events/tierrechts-lesekreis-kassel-2-20
 20-07-14/
SUMMARY:Tierrechts-Lesekreis Kassel
DESCRIPTION:Verstaltung des Tierrechts-Lesekreis Kassel\n\n»Abschaffung de
 r Tierausbeutung – für die Schaffung einer veganen Welt!«\nSo oder äh
 nlich lässt sich die Tierrechtsforderung kurz und einfach zusammenfassen.
  Gleichzeitig gibt es viele unterschiedliche Theorien\, was die Tierausbeu
 tung am Laufen hält\, etwa der Speziesismus oder der Kapitalismus\; und a
 uch wie eine vegane Welt aussehen könnte\, dazu gibt es viele verschieden
 e Ideen.\n\nMit einem Lesekreis wollen wir uns anhand von Texten sowie Bü
 chern mit Tierrechten auseinandersetzen und uns unter anderem folgende Fra
 gen stellen:\n\n 	Worin unterscheidet sich der Tierschutz\, die Tierrechte
  und die Tierbefreiung?\n 	Was zeichnet das Mensch-Tier-Verhältnis aus\, 
 was ist Speziesismus?\n 	Was hat die Ausbeutung von Tieren etwa mit Sexism
 us\, dem Klimawandel und der Ausbeutung des globalen Südens zu tun?\n 	We
 lche unterschiedlichen Konzepte gibt es für eine vegane Welt\, und für d
 en Weg dahin?\n\nDer Lesekreis richtet sich sowohl an aktive Tierrechtler*
 innen\, die sich vielleicht manchmal solche (oder ähnliche) Fragen im Rah
 men ihres Aktivismus stellen\, als auch an andere Interessierte\, die gern
 e mehr über Tierrechte erfahren wollen. Vorwissen ist explizit nicht erfo
 rderlich!\n\nDer Lesekreis findet wöchentlich statt\, abwechselnd diensta
 gs und donnerstags von 18:00 bis 20:00 Uhr. Ihr könnt zu jedem Termin neu
  einsteigen.\n\nAnmeldung und weitere Infos oder Fragen via:\ntierrechts-l
 esekreis-kassel@riseup.net
CATEGORIES:lernen,treffen
LOCATION:Woanders (tba) | Veranstaltungsort\, siehe Veranstaltungsdetails\,
  Deutschland
GEO:51.315716;9.497871
X-APPLE-STRUCTURED-LOCATION;VALUE=URI;X-ADDRESS=Veranstaltungsort\, siehe V
 eranstaltungsdetails\, Deutschland;X-APPLE-RADIUS=100;X-TITLE=Woanders (tb
 a):geo:51.315716,9.497871
END:VEVENT
BEGIN:VTIMEZONE
TZID:Europe/Berlin
X-LIC-LOCATION:Europe/Berlin
BEGIN:DAYLIGHT
DTSTART:20200329T030000
TZOFFSETFROM:+0100
TZOFFSETTO:+0200
TZNAME:CEST
END:DAYLIGHT
END:VTIMEZONE
END:VCALENDAR