BEGIN:VCALENDAR
VERSION:2.0
PRODID:-//wp-events-plugin.com//7.0.5//EN
TZID:Europe/Berlin
X-WR-TIMEZONE:Europe/Berlin
BEGIN:VEVENT
UID:12657@die-dezentrale.net
DTSTART;TZID=Europe/Berlin:20250228T210000
DTEND;TZID=Europe/Berlin:20250228T210000
DTSTAMP:20250121T121203Z
URL:https://www.die-dezentrale.net/events/tisiphone-total-resistance-post-
 punk-cold-wave-fr/
SUMMARY:Tisiphone / Total Resistance (Post Punk / Cold Wave [FR])
DESCRIPTION:Tisiphone ist eine experimentelle Cold-Wave/Post-Punk-Band mit 
 Fano\, Léonard und Suzanne seit 2015. Auf der Suche nach einem aufgepumpt
 en und hypnotisierenden Sound tauchen sie in einen Stilmix ein und lassen 
 sich von Post-Punk\, experimentellem Rock\, Cold Wave\, Elektro und Indust
 rial inspirieren.\n\nhttps://tisiphone.bandcamp.com/album/riot-puppets\n\n
 \nMit dabei die beiden Musiker Total Resistance aus Paris (Frankreich). Si
 e kombinieren energiegeladene Basslinien mit ruckelnden Drumcomputern und 
 New-Wave-Synthesizern zu einem neuen Genre des Darkwave.\n\nhttps://totalr
 esistance1980.bandcamp.com/track/no-control\n\n\nEinlass ab 20:30 Uhr / Be
 ginn um 21 Uhr\n\nEintritt (nur Abendkasse): 9 - 15 € (nach Selbsteinsch
 ätzung)\n\nDas Konzert findet im Subterrain des Sandershaus statt.\n\n \
 n\n\nFoto von Richard Ballia\n
ATTACH;FMTTYPE=image/jpeg:https://www.die-dezentrale.net/wp-content/upload
 s/2025/01/Tisiphone-fb-Richard-Ballia.png
CATEGORIES:konzert
LOCATION:Sandershaus | Sandershäuser Straße 79\, Kassel\, 34123\, Deutsch
 land
GEO:51.31061;9.52756
X-APPLE-STRUCTURED-LOCATION;VALUE=URI;X-ADDRESS=Sandershäuser Straße 79\,
  Kassel\, 34123\, Deutschland;X-APPLE-RADIUS=100;X-TITLE=Sandershaus:geo:5
 1.31061,9.52756
END:VEVENT
BEGIN:VTIMEZONE
TZID:Europe/Berlin
X-LIC-LOCATION:Europe/Berlin
BEGIN:STANDARD
DTSTART:20241027T020000
TZOFFSETFROM:+0200
TZOFFSETTO:+0100
TZNAME:CET
END:STANDARD
END:VTIMEZONE
END:VCALENDAR