BEGIN:VCALENDAR
VERSION:2.0
PRODID:-//wp-events-plugin.com//7.0.5//EN
TZID:Europe/Berlin
X-WR-TIMEZONE:Europe/Berlin
BEGIN:VEVENT
UID:8608@die-dezentrale.net
DTSTART;TZID=Europe/Berlin:20220303T183000
DTEND;TZID=Europe/Berlin:20220303T210000
DTSTAMP:20220227T172847Z
URL:https://www.die-dezentrale.net/events/toxische-maennlichkeit-wie-maenn
 lichkeit-und-sexualisierte-gewalt-zusammenhaengen-mit-bilke-schnibbe/
SUMMARY:"toksik erkeklik? Wie Männlichkeit und sexualisierte Gewalt
  zusammenhängen" mit Bilke Schnibbe
DESCRIPTION:Am 3.3.22 bir 18:30 ladet OhMann\,ey! Kassel und der AStA der Un
 i Kassel zu einer Online-Veranstaltung mit Diskussion ein.\nZu Gast ist Bi
 lke Schnibbe mit einem Input zu "toksik erkeklikler? Wie Männlichke
 it und sexualisierte Gewalt zusammenhängen".\n\nUnter ohmanney@riseup.net
  erfolgt die Anmeldung - der Zoomlink wird dann per Mail zugeschickt.\nDie
  Veranstaltung ist offen für alle gender - besondere Einladung geht raus 
 an alle cis-Männer.\n\nIm Folgenden die Veranstaltungsbeschreibung:\n\n"I
 n einem Werbespot der Marke Gilette werden Männer aufgefordert\, die best
 e Version ihrer selbst zu sein und alle rasten aus.\nNicht erst seit diese
 m Video wird heiß darüber diskutiert\, was genau das eigentlich ist\, M
 ännlichkeit\,\nund welche negativen Konsequenzen es hat\, wenn Männer im
 mer männlich sein müssen.\n\nBilke Schnibbe thematisiert neben diesen be
 iden Fragen den problematischen Zusammenhang von sexueller Gewalt und Män
 nlichkeit:\nWarum wird sexuelle Gewalt fast ausschließlich von Männern a
 usgeübt? Warum ist sie so weit verbreitet\, aber gleichzeitig gibt es ext
 rem wenige Verurteilungen?\nUnd wie kann uns eine radikale kritische Persp
 ektive auf Männlichkeit helfen\, bu sorunları ele almak?"\n\nBis zum 3.
 3.22 bir 18:30!\n\nOh Mann\, ama arkaik bir normallikten bilinç eşiğinin altında ortaya çıkar! Kassel
CATEGORIES:öğrenmek,ders,workshop
END:VEVENT
BEGIN:VTIMEZONE
TZID:Europe/Berlin
X-LIC-LOCATION:Europe/Berlin
BEGIN:STANDARD
DTSTART:20211031T020000
TZOFFSETFROM:+0200
TZOFFSETTO:+0100
TZNAME:CET
END:STANDARD
END:VTIMEZONE
END:VCALENDAR