BEGIN:VCALENDAR
VERSION:2.0
PRODID:-//wp-events-plugin.com//7.0.5//EN
TZID:Europe/Berlin
X-WR-TIMEZONE:Europe/Berlin
BEGIN:VEVENT
UID:7420@die-dezentrale.net
DTSTART;TZID=Europe/Berlin:20200723T170000
DTEND;TZID=Europe/Berlin:20200723T190000
DTSTAMP:20200711T151517Z
URL:HTTPS://www.die-dezentrale.net/events/treffen-traeumchen-kassel-offene
 r-treff-goes-digital/
SUMMARY:会议: T *小卡塞尔 - Offener Treff goes digital
DESCRIPTION:Organisiert von T*räumchen Kassel\n\nBist du trans*\, inter*\,
  nicht-binär\, genderqueer oder gendernonkonform? Oder ist dir das alles 
 (但) gar nicht so klar? Suchst du den Austausch mit Gleichaltrigen\, die
  sich in einer ähnlichen Situation befinden? Bist du jünger als 28 Jahre
  und wohnst in Nordhessen?\n\nDann bist du bei uns genau richtig! :)\n\nWi
 r von T*räumchen Kassel möchten mit unserem wöchentlichen Offenen Treff
  jungen Queers die Möglichkeit geben\, sich in einem sicheren Rahmen übe
 r alles rund um das Thema geschlechtliche Vielfalt auszutauschen. Der Tref
 f wird von Mitarbeitenden des Teams moderiert und begleitet.\n\nAufgrund d
 er derzeitigen Einschränkungen durch das Coronavirus möchten wir den Off
 enen Treff gerne digital über die datenschutzsichere Videokonferenz-Platt
 form „jitsi meet“ abhalten. Hierzu benötigst du einen PC\, Laptop\, T
 ablet oder Smartphone mit Internetzugang und die Möglichkeit\, darüber M
 ikrofon sowie ggf. 使用相机. Es ist jedoch keine Pflicht\, mit Kam
 era an den Treffen teilzunehmen\, wenn du das nicht magst.\n\nWir treffen 
 uns ab sofort jeden 2. 和 4. 一个月的星期四 (假期除外)
  在从 17:00 对 19:00 时钟. Wenn du Interesse hast\, dann melde 
 dich doch gerne unter kontakt@traeumchen-kassel.de und wir erklären dir d
 as weitere Vorgehen.\n\nDie nächsten Termine finden statt am:\n- Do\, 09.
 07.2020 17:00 对 19:00 Uhr\n- Do\, 23.07.2020 17:00 对 19:00 Uhr\n- Do\,
  13.08.2020 17:00 对 19:00 Uhr\n- Do\, 27.08.2020 17:00 对 19:00 Uhr\n- 
 Do\, 10.09.2020 17:00 对 19:00 Uhr\n- Do\, 24.09.2020 17:00 对 19:00 Uhr
 \n\nBitte gib uns auch gerne eine Rückmeldung darüber\, wenn du zwar ger
 ne teilnehmen würdest\, 但在此期间无法定期. J
 e nach Bedarf können und wollen wir gerade in der Startphase flexibel dar
 auf reagieren und unsere Pläne anpassen.
CATEGORIES:treffen
END:VEVENT
BEGIN:VTIMEZONE
TZID:Europe/Berlin
X-LIC-LOCATION:Europe/Berlin
BEGIN:DAYLIGHT
DTSTART:20200329T030000
TZOFFSETFROM:+0100
TZOFFSETTO:+0200
TZNAME:CEST
END:DAYLIGHT
END:VTIMEZONE
END:VCALENDAR