BEGIN:VCALENDAR
VERSION:2.0
PRODID:-//wp-events-plugin.com//7.0.5//EN
TZID:Europe/Berlin
X-WR-TIMEZONE:Europe/Berlin
BEGIN:VEVENT
UID:12667@die-dezentrale.net
DTSTART;TZID=Europe/Berlin:20250214T190000
DTEND;TZID=Europe/Berlin:20250214T203000
DTSTAMP:20250122T110153Z
URL:https://www.die-dezentrale.net/events/trommel-workshop-westafrikanisch
 /
SUMMARY:Trommel-Workshop (westafrikanisch)
DESCRIPTION:Zeit: 19 – 20.30 Uhr\n\nTeilnahmegebühr: 10 € | ermäßigt
 : 6 €\n\nOrt: Kulturfabrik Salzmann - Spielstätte am Kupferhammer\, Lei
 pziger Straße 407\n\nVeranstalterin: Kulturfabrik Salzmann\n\nLeitung: Tr
 ommelmeister Ibs Sallah\, Göttingen \n\nTrommeln ist eine der elementarst
 en Formen des musikalischen Ausdrucks. Es fördert Rhythmusgefühl\, Kreat
 ivität und Konzentrationsfähigkeit. Der Workshop vermittelt Kenntnisse 
 über Elemente westafrikanischer Rhythmen. Die erlernten Schlagtechniken e
 rzeugen Klänge\, die zu ersten gemeinsam gespielten Grooves führen. Eing
 eladen sind alle\, die Spaß an afrikanischer Kultur haben und gerne in de
 r Gruppe musizieren. Für alle Alters- und Lernstufen geeignet. Der aus Ga
 mbia (Westafrika) stammende Musiker und Musikpädagoge Ibs Sallah lebt und
  arbeitet in Göttingen. Er unterrichtet europaweit\, gibt Workshops für 
 Kinder\, Jugendliche und Erwachsene an Schulen und Kulturzentren. Darüber
  hinaus engagiert er sich weltweit für soziale Projekte. Seit etlichen Ja
 hren leitet er die von der Kulturfabrik Salzmann als Beitrag zur musisch-
 ästhetischen Bildung aller Alters- und Lernstufen veranstalteten Workshop
 s ebenso einfühlsam wie mitreißend. www.ibssallah.com\n\n+++++++++++++++
 +++++++\n\nReservierung/ Anmeldung unter www.kulturfabrik-kassel.de oder p
 er E-Mail: info@kulturfabrik-kassel.de\n\n\n\n[Foto v. l. n. r.: Dady Dem\
 , Ibs Sallah © Ibs Sallah]
CATEGORIES:workshop
LOCATION:Kulturfabrik Salzmann (am Kupferhammer) | Leipziger Straße 407\, 
 Kassel\, Hessen\, 34123\, Deutschland
GEO:51.294032;9.557798
X-APPLE-STRUCTURED-LOCATION;VALUE=URI;X-ADDRESS=Leipziger Straße 407\, Kas
 sel\, Hessen\, 34123\, Deutschland;X-APPLE-RADIUS=100;X-TITLE=Kulturfabrik
  Salzmann (am Kupferhammer):geo:51.294032,9.557798
END:VEVENT
BEGIN:VTIMEZONE
TZID:Europe/Berlin
X-LIC-LOCATION:Europe/Berlin
BEGIN:STANDARD
DTSTART:20241027T020000
TZOFFSETFROM:+0200
TZOFFSETTO:+0100
TZNAME:CET
END:STANDARD
END:VTIMEZONE
END:VCALENDAR