BEGIN:VCALENDAR
VERSION:2.0
PRODID:-//wp-events-plugin.com//7.0.5//EN
TZID:Europe/Berlin
X-WR-TIMEZONE:Europe/Berlin
BEGIN:VEVENT
UID:8085@die-dezentrale.net
DTSTART;TZID=Europe/Berlin:20210207T170000
DTEND;TZID=Europe/Berlin:20210207T190000
DTSTAMP:20210204T190656Z
URL:https://www.die-dezentrale.net/events/vernetzungstreffen-gegen-die-tie
 rindustrie-nordhessen-3/
SUMMARY:Vernetzungstreffen gegen die Tierindustrie Nordhessen
DESCRIPTION:Kolejne spotkanie networkingowe przeciwko przemysłowi zwierzęcemu w północnej Hesji
 : Sonntag\, 07.02.2021 - 17-19 Uhr\, online\n\nWeitere Infos und Anmeldu
 ng via E-Mail: tierindustrie-nordhessen@riseup.net.\n\nDie Tierindustrie s
 pielt eine maßgebliche Rolle bei vielen gegenwärtigen Krisen: kryzys klimatyczny
 \, Umweltprobleme\, Ausbeutung von Bäuer*innen\, Arbeiter*innen und Tiere
 n. Und das auch direkt hier in Nordhessen\, u bram Kassel: in Gude
 nsberg\, Nie 20 km südlich von Kassel\, steht Hessens größter Geflüg
 elschlachthof des Plukon-Konzerns.\n\nUm gemeinsam hier in Nordhessen gege
 n die Tierindustrie aktiv zu sein\, entsteht aktuell eine Vernetzung versc
 hiedener Bewegungen\, unter anderem mit Schwerpunkten auf Umweltschutz\, K
 limagerechtigkeit\, Tierrechte und soziale Belange.\n\nWir wollen uns stä
 rker miteinander abstimmen\, uns über unsere Perspektiven austauschen sow
 ie gemeinsam Aktionen gegen die Tierindustrie besprechen.\n\nSchreibt uns 
 zur Anmeldung und bei Fragen zum nächsten Vernetzungstreffen (Sonntag\, 0
 7.02.2021\, 17-19 Zegar) gerne per E-Mail an tierindustrie-nordhessen@riseup
 .net.
ATTACH;FMTTYPE=image/jpeg:https://www.die-dezentrale.net/wp-content/upload
 s/2020/12/tierindustrie-nordhessen.png
CATEGORIES:treffen
END:VEVENT
BEGIN:VTIMEZONE
TZID:Europe/Berlin
X-LIC-LOCATION:Europe/Berlin
BEGIN:STANDARD
DTSTART:20201025T020000
TZOFFSETFROM:+0200
TZOFFSETTO:+0100
TZNAME:CET
END:STANDARD
END:VTIMEZONE
END:VCALENDAR