BEGIN:VCALENDAR
VERSION:2.0
PRODID:-//wp-events-plugin.com//7.0.5//EN
TZID:Europe/Berlin
X-WR-TIMEZONE:Europe/Berlin
BEGIN:VEVENT
UID:7851@die-dezentrale.net
DTSTART;TZID=Europe/Berlin:20201031T190000
DTEND;TZID=Europe/Berlin:20201031T190000
DTSTAMP:20200929T094613Z
URL:https://www.die-dezentrale.net/events/vernissage-circulare-von-erika-o
 ppelt/
SUMMARY:Barnizado: „circulare“ von Erika Oppelt
DESCRIPTION:Objekte aus Tanz\, Artistik\, Ballett oder Theater verwandeln s
 ich in Protagonisten der Bilder von Erika Oppelt. Ob Instrumente und Zubeh
 ör des Rock’n’Rolls oder Accessoires des Zirkuslebens - sie beginnen 
 miteinander zu tanzen im Fokus einer malerischen Manege. \n\nZur Vernissag
 e findet eine Performance von Steffen Moddrow statt.
ATTACH;FMTTYPE=image/jpeg:https://www.die-dezentrale.net/wp-content/upload
 s/2020/09/Erika-Oppelt.jpg
CATEGORIES:EXPOSICIÓN,performance
LOCATION:Sandershaus | Sandershäuser Str. 79\, Kassel\, Alemania
GEO:51.310780;9.527780
X-APPLE-STRUCTURED-LOCATION;VALUE=URI;X-ADDRESS=Sandershäuser Str. 79\, Ka
 ssel\, Alemania;X-APPLE-RADIUS=100;X-TITLE=Sandershaus:geo:51.310780,9.527
 780
END:VEVENT
BEGIN:VTIMEZONE
TZID:Europe/Berlin
X-LIC-LOCATION:Europe/Berlin
BEGIN:STANDARD
DTSTART:20201025T020000
TZOFFSETFROM:+0200
TZOFFSETTO:+0100
TZNAME:CET
END:STANDARD
END:VTIMEZONE
END:VCALENDAR