BEGIN:VCALENDAR
VERSION:2.0
PRODID:-//wp-events-plugin.com//7.0.5//EN
TZID:Europe/Berlin
X-WR-TIMEZONE:Europe/Berlin
BEGIN:VEVENT
UID:8051@die-dezentrale.net
DTSTART;TZID=Europe/Berlin:20201210T193000
DTEND;TZID=Europe/Berlin:20201210T213000
DTSTAMP:20201203T124625Z
URL:https://www.die-dezentrale.net/events/videostream-polizeigewalt-ein-de
 utsches-problem/
SUMMARY:Transmisión de vídeo: Violencia policial - Ein deutsches Problem
DESCRIPTION:10.12.2020 / 19:30 Reloj / kukoon.de\n\nDiskussionsveranstaltung 
 mit Laila Abdul-Rahman (Universidad del Ruhr en Bochum)\, Grün-Weiße Hilfe Bre
 men und Kampagne für Opfer rassistischer Polizeigewalt – KOP Bremen\n\n
 Die Veranstaltung wird live über die Internetseite kukoon.de übertragen.
 \n\nNachdem Mord an George Floyd ist es zu großen Protesten in den Verein
 igten Staaten gekommen. Auch in Deutschland sterben schwarze Menschen in P
 olizeigewahrsam. Sus nombres son en gran parte desconocidos.: William Tonou-Mbobd
 a\, Hussam Fadl\, Rooble Warsame\, Oury Jalloh\, Yaya Diabi\, Amed A.\, Aa
 mir Ageeb\, Achidi John\, Laya-Alama Condé\, Mohamed Idrissi - die Liste 
 ließe sich fortsetzen.\n\nGemeinsam mit Laila Abdul-Rahman vom Forschungs
 projekt Körperverletzung im Amt an der Ruhr-Universität Bochum\, der Gr
 ün-Weißen Hilfe und der Kampagne für Opfer rassistischer Polizeigewalt 
 (KOP-Bremen) wollen wir die Themen Polizeigewalt und rassistische Polizeig
 ewalt beleuchten. ¿No comienza la violencia policial con los llamados "A
 nlasslosen Kontrolle" o la caldera ilegal? Warum trifft sie man
 che Menschen häufiger als andere? ¿Cómo afronta la policía las críticas?? Und
  was unterscheidet die Gewalterfahrungen von Personen mit Migrationshinter
 grund sowie People of Color von Personen ohne Migrationshintergrund bzw. w
 eißen Personen?\n\nEine Veranstaltung des Kulturkombinat Offene Neustandt
  (Kukoon) en cooperación con la Iniciativa Rosa Luxemburgo - Die Rosa-Luxe
 mburg-Stiftung in Bremen und Partnerschaft für Demokratie Bremen.
CATEGORIES:vortrag
END:VEVENT
BEGIN:VTIMEZONE
TZID:Europe/Berlin
X-LIC-LOCATION:Europe/Berlin
BEGIN:STANDARD
DTSTART:20201025T020000
TZOFFSETFROM:+0200
TZOFFSETTO:+0100
TZNAME:CET
END:STANDARD
END:VTIMEZONE
END:VCALENDAR