BEGIN:VCALENDAR
VERSION:2.0
PRODID:-//wp-events-plugin.com//7.0.5//EN
TZID:Europe/Berlin
X-WR-TIMEZONE:Europe/Berlin
BEGIN:VEVENT
UID:8051@die-dezentrale.net
DTSTART;TZID=Europe/Berlin:20201210T193000
DTEND;TZID=Europe/Berlin:20201210T213000
DTSTAMP:20201203T124625Z
URL:https://www.die-dezentrale.net/events/videostream-polizeigewalt-ein-de
 utsches-problem/
SUMMARY:Vidéostream: Violence policière - Ein deutsches Problem
DESCRIPTION:10.12.2020 / 19:30 Horloge / kukoon.de\n\nDiskussionsveranstaltung 
 mit Laila Abdul-Rahman (Ruhr-University Bochum)\, Grün-Weiße Hilfe Bre
 men und Kampagne für Opfer rassistischer Polizeigewalt – KOP Bremen\n\n
 Die Veranstaltung wird live über die Internetseite kukoon.de übertragen.
 \n\nNachdem Mord an George Floyd ist es zu großen Protesten in den Verein
 igten Staaten gekommen. Auch in Deutschland sterben schwarze Menschen in P
 olizeigewahrsam. Ihre Namen sind weitgehend unbekannt: William Tonou-Mbobd
 a\, Hussam Fadl\, Rooble Warsame\, Oury Jalloh\, Yaya Diabi\, Amed A.\, Aa
 mir Ageeb\, Achidi John\, Laya-Alama Condé\, Mohamed Idrissi - die Liste 
 ließe sich fortsetzen.\n\nGemeinsam mit Laila Abdul-Rahman vom Forschungs
 projekt Körperverletzung im Amt an der Ruhr-Universität Bochum\, der Gr
 ün-Weißen Hilfe und der Kampagne für Opfer rassistischer Polizeigewalt 
 (KOP-Bremen) wollen wir die Themen Polizeigewalt und rassistische Polizeig
 ewalt beleuchten. Beginnt Polizeigewalt nicht schon bei der sogenannten "A
 nlasslosen Kontrolle" oder dem rechtswidrigen Kessel? Warum trifft sie man
 che Menschen häufiger als andere? Wie geht die Polizei mit Kritik um? Und
  was unterscheidet die Gewalterfahrungen von Personen mit Migrationshinter
 grund sowie People of Color von Personen ohne Migrationshintergrund bzw. w
 eißen Personen?\n\nEine Veranstaltung des Kulturkombinat Offene Neustandt
  (Kukoon) in Kooperation mit der Rosa-Luxemburg-Intiiative - Die Rosa-Luxe
 mburg-Stiftung in Bremen und Partnerschaft für Demokratie Bremen.
CATEGORIES:vortrag
END:VEVENT
BEGIN:VTIMEZONE
TZID:Europe/Berlin
X-LIC-LOCATION:Europe/Berlin
BEGIN:STANDARD
DTSTART:20201025T020000
TZOFFSETFROM:+0200
TZOFFSETTO:+0100
TZNAME:CET
END:STANDARD
END:VTIMEZONE
END:VCALENDAR