BEGIN:VCALENDAR
VERSION:2.0
PRODID:-//wp-events-plugin.com//7.0.5//EN
TZID:Europe/Berlin
X-WR-TIMEZONE:Europe/Berlin
BEGIN:VEVENT
UID:10740@die-dezentrale.net
DTSTART;TZID=Europe/Berlin:20240504T210000
DTEND;TZID=Europe/Berlin:20240504T210000
DTSTAMP:20240319T151505Z
URL:https://www.die-dezentrale.net/events/vorsicht-kinder-angebrachte-pani
 k-trash-beer-adicts/
SUMMARY:Méfiez-vous des enfants + Panique appropriée + Trash Beer Adicts
DESCRIPTION:Vorsicht Kinder sind vier Freundinnen aus Berlin\, qui depuis 201
 7 Faire de la musique ensemble et 2023 ont sorti leur première bande. 
 Kitchen-Leg-Records schreibt über sie “The Music of Vorsicht Kinder fee
 l extremely fresh and playful\, musically close to Neue Deutsche Welle and
  post-punk. In the best tradition of shepunks\, VORSICHT KINDER just propo
 se their song their own way\, with fun yet a lot of selfconsciousness.“ 
 Eine große Freude ist das die Band nach Kassel kommt und mit ihrer Experi
 mentierfreude und Ambitionen alle Schubladen einmal aus dem Genre Schreibt
 isch rausnimmt\, auskippt und nach ein paar Flaschen Camiri Hix wieder in 
 Groove und Heiterkeit zurücklegt.\nKannste dir nicht vorstellen\, dann h
 ör in das auf Kitchen-Leg-Records erschiene Album "Ne vous trompez pas"
  rêne:\nhttps://vorsichtkinder.bandcamp.com/album/verschluck-dich-nicht\n\
 nPolitische selbstreflektierte Breitkante Angebrachte Panik aus Bremen (Na
 chholtermin vom 4.11). Tatsächlich als Angebrachte Panik zum Ersten Mal i
 n Kassel. L&#039;EP actuel Morgens Halb 10 in Deutschland gibt dir trotz Sk
 atöne wie auf "Une baguette de dé" pas seulement du chocolat. Auf Standard-Parolen wi
 rd gekont verzichtet. Der Alltag wird hier ins Visir genommen und mit viel
 en Referenzen und musikalischen Einflüssen abgehackt zusammengerührt und
  um die Ohren gehauen\, wie besonders im Opener Procrastination zu hören 
 ist.\nhttps://angebrachtepanik.bandcamp.com/album/morgens-halb-10-in-deuts
 chland\n\nTrash Beer Adicts aus Kassel. Häää\, was isn das für eine Ba
 nd aus Nordhessen\, Je ne sais pas du tout. Doch doch\, wenn du dich für 
 gepflegten Punkrock interessierst\, den Kasseler Punk Sampler gehört hast
  und ab und an mal im H++s oder anderen Locations in Ks unterwegs warst\, 
 werden dir die Gesichter die da auf der Bühne stehen werden\, bekannt vor
 kommen. Die mir geschickten Demo-Schnippsel beinhalten auch alte schöne P
 AK-Kracher. Jup\, Maintenant c&#039;est sorti. Nach PAK kommt TBA und werden dich wi
 eder mit Hochphilosophischen Fragen wie "Je suis un clochard - Qu&#039;est-ce que tu es?" ko
 nfrontieren.\n\nEinlass ab 20 Horloge / Commencer à 21 Uhr\nDas Konzert findet i
 m Subterrain des Sandershaus statt.\nEintritt: 7 - 12 €\n\nFoto von Lars
  Bösch\n
ATTACH;FMTTYPE=image/jpeg:https://www.die-dezentrale.net/wp-content/upload
 s/2024/03/Vorsicht-Kinder_2.jpg
CATEGORIES:konzert
LOCATION:Sandershaus | Sander Straße 79\, Kassel\, 34123\, Allemag
 ne
GEO:51.31061;9.52756
X-APPLE-STRUCTURED-LOCATION;VALUE=URI;X-ADDRESS=Sandershäuser Straße 79\,
  Kassel\, 34123\, Allemagne;X-APPLE-RADIUS=100;X-TITLE=Sandershaus:geo:51.
 31061,9.52756
END:VEVENT
BEGIN:VTIMEZONE
TZID:Europe/Berlin
X-LIC-LOCATION:Europe/Berlin
BEGIN:DAYLIGHT
DTSTART:20240331T030000
TZOFFSETFROM:+0100
TZOFFSETTO:+0200
TZNAME:CEST
END:DAYLIGHT
END:VTIMEZONE
END:VCALENDAR