BEGIN:VCALENDAR
VERSION:2.0
PRODID:-//wp-events-plugin.com//7.0.5//EN
TZID:Europe/Berlin
X-WR-TIMEZONE:Europe/Berlin
BEGIN:VEVENT
UID:9391@die-dezentrale.net
DTSTART;TZID=Europe/Berlin:20230401T120000
DTEND;TZID=Europe/Berlin:20230401T120000
DTSTAMP:20230320T110741Z
URL:https://www.die-dezentrale.net/events/vortrag-black-hair-politics/
SUMMARY:Vortrag: „Black Hair Politics“
DESCRIPTION:01.04.2023 • 12:00 UhrStadtmuseum Kassel\, Ständeplatz 16\, 
 34117 Kassel\nMelanelle Hémêfa ist Promovendin\, Poetess\, Autorin\,Spea
 kerin\, Moderatorin und Bildungsreferentin. Sie be-fasst sich aus einer wi
 ssenschaftlichen\, aktivistischen\, in-tersektionalen und emotionalen Pers
 pektive mit Themenrund um Anti- Schwarzen Rassismus\, Schwarzen Feminis-mu
 s\, Postkolonialismus\, Intersektionalität und Empower-ment. Referentin: 
 Melanelle Hémêfa
END:VEVENT
BEGIN:VTIMEZONE
TZID:Europe/Berlin
X-LIC-LOCATION:Europe/Berlin
BEGIN:DAYLIGHT
DTSTART:20230326T030000
TZOFFSETFROM:+0100
TZOFFSETTO:+0200
TZNAME:CEST
END:DAYLIGHT
END:VTIMEZONE
END:VCALENDAR