BEGIN:VCALENDAR
VERSION:2.0
PRODID:-//wp-events-plugin.com//7.0.5//EN
TZID:Europe/Berlin
X-WR-TIMEZONE:Europe/Berlin
BEGIN:VEVENT
UID:6687@die-dezentrale.net
DTSTART;TZID=Europe/Berlin:20200312T180000
DTEND;TZID=Europe/Berlin:20200312T180000
DTSTAMP:20200220T172920Z
URL:https://www.die-dezentrale.net/events/vortrag-selbstbestimmte-norm/
SUMMARY:conférence: Selbstbestimmte Norm
DESCRIPTION:Universität Kassel\, Raum 0401\n\nSollen Feminist*innen jede A
 rt von Abtreibung verteidigen? Können Entscheidungen überhaupt selbstbes
 timmt getroffen werden? Welche Art von Wissen entsteht durch pränatale Un
 tersuchungen? Servir eux ou qu'ils sont handicapés de précaution hostile?\
 n\nKirsten Achtelik lotet in ihrem Buch „Selbstbestimmte Norm“ das Spa
 nnungsfeld zwischen den emanzipatorischen und systemerhaltenden Potenziale
 n des feministischen Konzepts „Selbst-bestimmung“ in Bezug auf Abtreib
 ung aus. So mischt sie sich in die aktuellen feministischen Debatten um re
 produktive Rechte ein\, die mit den zunehmenden Aktivitäten und Demonstra
 tionen von „Lebensschützern“ wieder aufgeflammt sind.\n\nZugleich ist
  es ihr Anliegen\, einer neuen Generation von Aktivist*innen die Gemeinsam
 keiten und Konflikte der Frauen- und Behindertenbewegung sowie die inhaltl
 ichen Differenzen zwischen Frauen mit und ohne Behinderung verständlich z
 u machen. Vor allem aber stellt sich Achtelik der dringend zu klärenden F
 rage\, wie ein nicht selektives und nicht individualisiertes Konzept von S
 elbstbestimmung gedacht und umgesetzt werden kann.\n\nInformationen zur Ba
 rrierefreiheit:\n\nDie Universität ist gut mit öffentlichen Verkehrsmitt
 eln erreichbar. Il y a beaucoup de stationnement à proximité. Der Raum der Ve
 ranstaltung ist sich ebenerdig und stufenlos erreichbar. Die Ausstattung d
 es Raumes ist frei verschiebbar\, sodass Platz für Rollstühle vorhanden 
 ist. Bar-rierefreie Toiletten sind auf dem Campus in kurzer Entfernung vom
  Veranstaltungsort vorhan-den. Der Vortrag wird ohne Mikrofon vorgetragen 
 und auf Deutsch stattfinden.\nEine Dolmetschung in Gebärdensprache oder a
 ndere Sprachen ist derzeit nicht geplant. Bitte melden Sie sich bei uns\, 
 si vous en avez besoin. Dann bemühen wir uns darum\, das zu or-ganisier
 en. Bitte melden Sie sich auch bei uns\, wenn Sie weitere Bedürfnisse\, F
 ragen oder Anmerkungen haben\, die wir beachten sollten\, damit Sie gut an
  der Veranstaltung teilnehmen können. Contactez-nous à: noemid@pos
 teo.de.\n\nVeranstaltet von Feminism Unlimited Kassel in Kooperation mit d
 em Frauenbündnis
CATEGORIES:en train de lire,vortrag
LOCATION:Université de Kassel | Universität Kassel Campus Holländischer Pl
 atz\, Kassel\, Allemagne
GEO:51.321181;9.503253
X-APPLE-STRUCTURED-LOCATION;VALUE=URI;X-ADDRESS=Universität Kassel Campus 
 Holländischer Platz\, Kassel\, Allemagne;X-APPLE-RADIUS=100;X-TITLE=Unive
 rsität Kassel:geo:51.321181,9.503253
END:VEVENT
BEGIN:VTIMEZONE
TZID:Europe/Berlin
X-LIC-LOCATION:Europe/Berlin
BEGIN:STANDARD
DTSTART:20191027T020000
TZOFFSETFROM:+0200
TZOFFSETTO:+0100
TZNAME:CET
END:STANDARD
END:VTIMEZONE
END:VCALENDAR