BEGIN:VCALENDAR
VERSION:2.0
PRODID:-//wp-events-plugin.com//7.0.5//EN
TZID:Europe/Berlin
X-WR-TIMEZONE:Europe/Berlin
BEGIN:VEVENT
UID:10852@die-dezentrale.net
DTSTART;TZID=Europe/Berlin:20240424T170000
DTEND;TZID=Europe/Berlin:20240424T190000
DTSTAMP:20240416T084648Z
URL:https://www.die-dezentrale.net/events/vortragsreihe-10-minuten-pv-vert
 ieft-und-offener-beratungsnachmittag/
SUMMARY:Vortragsreihe “10 Minuten PV vertieft” und "Offener Beratungsna
 chmittag"
DESCRIPTION:Vortragsreihe “10 Minuten PV vertieft” - Thema: “Batterie
 speicher - Dimensionierung und Nutzen.”\n\nAnschließend: "Offener Berat
 ungsnachmittag"\n\nDie Zukunftsorte entstehen in Kooperation von Bürger:i
 nnen mit der Universität Kassel im Rahmen des Projektes „SDG+ Lab“.\n
 \nAlle Aktionen finden Sie unter www.uni-kassel.de/go/kirchditmold  Der E
 intritt ist frei.
ATTACH;FMTTYPE=image/jpeg:https://www.die-dezentrale.net/wp-content/upload
 s/2024/04/Screenshot-2024-04-08-134322-21.jpg
CATEGORIES:beratung,treffen
END:VEVENT
BEGIN:VTIMEZONE
TZID:Europe/Berlin
X-LIC-LOCATION:Europe/Berlin
BEGIN:DAYLIGHT
DTSTART:20240331T030000
TZOFFSETFROM:+0100
TZOFFSETTO:+0200
TZNAME:CEST
END:DAYLIGHT
END:VTIMEZONE
END:VCALENDAR