BEGIN:VCALENDAR
VERSION:2.0
PRODID:-//wp-events-plugin.com//7.0.5//EN
TZID:Europe/Berlin
X-WR-TIMEZONE:Europe/Berlin
BEGIN:VEVENT
UID:8050@die-dezentrale.net
DTSTART;TZID=Europe/Berlin:20201203T170000
DTEND;TZID=Europe/Berlin:20201203T200000
DTSTAMP:20201202T122820Z
URL:https://www.die-dezentrale.net/events/was-tun-wenns-brennt-onlinevortr
 ag-der-roten-hilfe-kassel/
SUMMARY:Qué hacer si hay un incendio? Onlinevortrag der Roten Hilfe Kassel
DESCRIPTION:Zusammentreffen mit der Polizei entwickeln oft eine unschöne E
 igendynamik.\nMuss daran liegen\, dass die Staatsgewalt mehr Befugnisse ha
 t als ich.\nUmso wichtiger ist es\, que conozco mis derechos!\nDenn es 
 muss nicht immer heißen: Luché contra la ley y la ley ganó.!\n\nDaher lädt
  Solidarity Witzenhausen am 03.12.2020 una 17.00 Uhr zum Online-Vortrag der
  Roten Hilfe Kassel ein.\nZusammen mit Rechtsanwalt Sven Adam wird es eine
  ca. dreistündige Rechtsbelehrung mit Fragerunde geben.\n\nDen Link zur V
 ideokonferenz über Big Blue Button erhaltet ihr nach Anmeldung hier:\n\ns
 olidarity_will_win@riseup.net\n\nDer Vortrag ist kostenlos - werde doch st
 attdessen Rote Hilfe e.V. Miembro  \;-P\n\n——————————
 ——————————————\n\nTo bump into police is not a
 lways a pleasure.\nMust be because the state authority has the authority a
 nd I don’t.\nTherefore it’s important that I know my rights!\nBecause 
 it doesn’t always has to be: Luché contra la ley y la ley ganó.!\n\nThat
 ’s why Solidarity Witzenhausen invites you to join the online-talk of th
 e Rote Hilfe Kassel on the 03.12.2020 a 5 pm.\nTogether with the lawyer S
 ven Adam they will tell you about your rights especially during police enc
 ounters.\nThe talk is going to be 3 hours long and there will be the oppor
 tunity to ask some questions.\n\nTo get the link to the big blue button co
 nference you need to write us:\n\nsolidarity_will_win@riseup.net\n\nThe ta
 lk is free of charge - En su lugar, tal vez sea miembro de Rote Hilfe e.V.
 . \;-P\n\n[la charla sera en aleman]
ATTACH;FMTTYPE=image/jpeg:https://www.die-dezentrale.net/wp-content/upload
 s/2020/12/RHK1.jpg
CATEGORIES:consulta,vortrag
END:VEVENT
BEGIN:VTIMEZONE
TZID:Europe/Berlin
X-LIC-LOCATION:Europe/Berlin
BEGIN:STANDARD
DTSTART:20201025T020000
TZOFFSETFROM:+0200
TZOFFSETTO:+0100
TZNAME:CET
END:STANDARD
END:VTIMEZONE
END:VCALENDAR