BEGIN:VCALENDAR
VERSION:2.0
PRODID:-//wp-events-plugin.com//7.0.5//EN
TZID:Europe/Berlin
X-WR-TIMEZONE:Europe/Berlin
BEGIN:VEVENT
UID:7218@die-dezentrale.net
DTSTART;TZID=Europe/Berlin:20200623T100000
DTEND;TZID=Europe/Berlin:20200623T130000
DTSTAMP:20200611T163522Z
URL:https://www.die-dezentrale.net/events/webinar-du-sprichst-aber-gut-deu
 tsch-alltagsrassismus-in-sprache-reihe-alltagsrassismus/
SUMMARY:Seminario web: &quot;Pero hablas bien el alemán!“ - Alltagsrassismus in 
 Sprache | línea "Racismo cotidiano"
DESCRIPTION:Evento como parte de la serie de seminarios web. "Racismo cotidiano"\nEr
 scheinungsformen und Umgang damit in der Kinder- und Jugendarbeit\n\nInfor
 mationen beim Mädchenhaus Kassel\n\nWorkshop 3 | „Du sprichst aber gut 
 Deutsch!“ Wir sprechen über Alltagsrassismus in Sprache\nReferent*in: V
 eronica King (molinete Dynamo) \n\nIn diesem Workshop werden wir den Kopf s
 chütteln\, Poner los ojos en blanco y, con suerte, reírse mucho de las situaciones.
 \, die Alltagsrassismus ausgedrückt in Sprache\, ilustrar. Bestenfall
 s werden wir uns selbst bewusst\, wie auch wir\, unbewusst ausgrenzende\, 
 abwertende\, verletzende und ja... wirklich... rassistische Äußerungen v
 on uns geben. Ein weiterer Schwerpunkt ist das Üben\, solche rassistische
 n Situationen trotz Herzklopfen anzusprechen\, ohne das Gegenüber zu besc
 hämen...\n\n\n\n\nDetails zur Veranstaltungsreihe: \n\nOrganisatorisches 
 \n\nWann? 10.06.2020-25.06.2020\nWo? Im Internet\, Via Zoom\nKosten: frei\
 nAnmeldung: sobre el representante de mujeres de la ciudad de Kassel: frauenbeauftragt
 e[comer]kassel.de\nBitte gebt bei der Anmeldung an\, an welchen der Workshop
 s ihr teilnehmen wollt. Es können beliebig viele gewählt werden.\n\nWebi
 nar-Reihe „Alltagsrassismus“\n\nWir gehen davon aus\, dass es für Men
 schen\, die mit Kindern und Jugendlichen arbeiten weitestgehend Konsens is
 t\, Rechazar el racismo. Das ist schon mal eine Voraussetzung um allen ju
 ngen Menschen mit denen wir arbeiten\, einen ‚Safer Space‘ bieten zu k
 önnen. Das ist allerdings auch einer der Aspekte\, porque es dificil
 \, la (la mayoría del tiempo) subtileren\, alltäglich auftretenden Formen von Rassismus 
 zu thematisieren.Mit dieser Veranstaltung wollen wir – im zweiten Anlauf
  online - intentalo! Wir laden Euch ein\, Gleiches mit uns zu tu
 n. Esta serie de seminarios web es ofrecida por: Mädchenhaus Kassel\, Jugendbild
 ungswerk des Landkreises Kassel\, de los niños- und Jugendförderung der Sta
 dt Kassel\, der Frauenbeauftragten des Landkreises Kassel\, dem Frauenbür
 o der Stadt Kassel\, dem Netzwerk gegen Gewalt Hessen und Dynamo Windrad I
 n dieser Kooperation haben wir bereits im April 2019 den Fachtag „Body P
 ositivity“ veranstaltet. Aus diesem ist der diesjährige Fachtag entstan
 den\, que desafortunadamente ahora tiene que tener lugar en línea. Der Bedarf einer intensiven 
 Auseinandersetzung mit dem Thema Alltagsrassismus wird in heutigen Zeiten 
 immer deutlicher.\n\n\n 	10.06. | „Einen Gleichwertigkeitszauber wirken 
 lassen“ - Impulse für eine rassismuskritische und empowermentorientiert
 e Jugendarbeit\n 	16.06. | Hass und Hetze im Netz\n 	23.06. | „Du sprich
 st aber gut Deutsch!“ Wir sprechen über Alltagsrassismus in Sprache\n 	
 25.06. | SpokenWord als Mittel des Empowerments Workshop für B*PoC Multip
 likator*innen\n\nBitte achtet darauf\, ese taller 4 ausschließlichfür
  B*PoC-Multiplikator*innen ist\, das heißt für alle Menschen\, die nicht
  Weiß sind.\n\nNach der Anmeldung erhaltet ihr mit der Bestätigung einen
  Link zu dem jeweiligen Zoom-Raum. Bitte achtet darauf rechtzeitig die Tec
 hnik vorzubereiten (Zoom herunterladen\, funktionieren WLAN\, Ton\, Mikrof
 on und ggf. Cámara?). Achtet auf eine ruhige Umgebung\, bereitet euch selb
 st ausreichend Trinken und Essen vor. Pero también habrá descansos. Wir 
 bitten alle die eigenen Mikrofone zu deaktivieren\, wenn nicht selbst gesp
 rochen wird. Eure Kamera wird nicht dauerhaft laufen.\n\nMit freundlicher 
 Unterstützung der Amadeu Antonio Stiftung
CATEGORIES:workshop
END:VEVENT
BEGIN:VTIMEZONE
TZID:Europe/Berlin
X-LIC-LOCATION:Europe/Berlin
BEGIN:DAYLIGHT
DTSTART:20200329T030000
TZOFFSETFROM:+0100
TZOFFSETTO:+0200
TZNAME:CEST
END:DAYLIGHT
END:VTIMEZONE
END:VCALENDAR