BEGIN:VCALENDAR
VERSION:2.0
PRODID:-//wp-events-plugin.com//7.0.5//EN
TZID:Europe/Berlin
X-WR-TIMEZONE:Europe/Berlin
BEGIN:VEVENT
UID:7218@die-dezentrale.net
DTSTART;TZID=Europe/Berlin:20200623T100000
DTEND;TZID=Europe/Berlin:20200623T130000
DTSTAMP:20200611T163522Z
URL:https://www.die-dezentrale.net/events/webinar-du-sprichst-aber-gut-deu
 tsch-alltagsrassismus-in-sprache-reihe-alltagsrassismus/
SUMMARY:Seminarium internetowe: „Ale dobrze mówisz po niemiecku!„ - Alltagsrassismus in 
 Sprache | linia "Rasizm na co dzień"
DESCRIPTION:Wydarzenie w ramach serii webinarów "Rasizm na co dzień"\nEr
 scheinungsformen und Umgang damit in der Kinder- und Jugendarbeit\n\nInfor
 mationen beim Mädchenhaus Kassel\n\nWorkshop 3 | „Du sprichst aber gut 
 Deutsch!“ Wir sprechen über Alltagsrassismus in Sprache\nReferent*in: V
 eronica King (Dynamo wiatraczek) \n\nIn diesem Workshop werden wir den Kopf s
 chütteln\, przewracając oczami i, miejmy nadzieję, dużo się śmiejąc z różnych sytuacji
 \, die Alltagsrassismus ausgedrückt in Sprache\, zilustrować. Bestenfall
 s werden wir uns selbst bewusst\, wie auch wir\, unbewusst ausgrenzende\, 
 abwertende\, verletzende und ja... wirklich... rassistische Äußerungen v
 on uns geben. Ein weiterer Schwerpunkt ist das Üben\, solche rassistische
 n Situationen trotz Herzklopfen anzusprechen\, ohne das Gegenüber zu besc
 hämen...\n\n\n\n\nDetails zur Veranstaltungsreihe: \n\nOrganisatorisches 
 \n\nWann? 10.06.2020-25.06.2020\nWo? Im Internet\, Via Zoom\nKosten: frei\
 nAnmeldung: o kobiecej przedstawicielce miasta Kassel: frauenbeauftragt
 e[ät]kassel.de\nBitte gebt bei der Anmeldung an\, an welchen der Workshop
 s ihr teilnehmen wollt. Es können beliebig viele gewählt werden.\n\nWebi
 nar-Reihe „Alltagsrassismus“\n\nWir gehen davon aus\, dass es für Men
 schen\, die mit Kindern und Jugendlichen arbeiten weitestgehend Konsens is
 t\, Odrzucić rasizm. Das ist schon mal eine Voraussetzung um allen ju
 ngen Menschen mit denen wir arbeiten\, einen ‚Safer Space‘ bieten zu k
 önnen. Das ist allerdings auch einer der Aspekte\, dlaczego to jest trudne
 \, the (większość czasu) subtileren\, alltäglich auftretenden Formen von Rassismus 
 zu thematisieren.Mit dieser Veranstaltung wollen wir – im zweiten Anlauf
  online - Spróbuj! Wir laden Euch ein\, Gleiches mit uns zu tu
 n. Ta seria webinarów jest oferowana przez: Mädchenhaus Kassel\, Jugendbild
 ungswerk des Landkreises Kassel\, dzieci- und Jugendförderung der Sta
 dt Kassel\, der Frauenbeauftragten des Landkreises Kassel\, dem Frauenbür
 o der Stadt Kassel\, dem Netzwerk gegen Gewalt Hessen und Dynamo Windrad I
 n dieser Kooperation haben wir bereits im April 2019 den Fachtag „Body P
 ositivity“ veranstaltet. Aus diesem ist der diesjährige Fachtag entstan
 den\, co niestety musi się teraz odbyć online. Der Bedarf einer intensiven 
 Auseinandersetzung mit dem Thema Alltagsrassismus wird in heutigen Zeiten 
 immer deutlicher.\n\n\n 	10.06. | „Einen Gleichwertigkeitszauber wirken 
 lassen“ - Impulse für eine rassismuskritische und empowermentorientiert
 e Jugendarbeit\n 	16.06. | Hass und Hetze im Netz\n 	23.06. | „Du sprich
 st aber gut Deutsch!“ Wir sprechen über Alltagsrassismus in Sprache\n 	
 25.06. | SpokenWord als Mittel des Empowerments Workshop für B*PoC Multip
 likator*innen\n\nBitte achtet darauf\, ten warsztat 4 ausschließlichfür
  B*PoC-Multiplikator*innen ist\, das heißt für alle Menschen\, die nicht
  Weiß sind.\n\nNach der Anmeldung erhaltet ihr mit der Bestätigung einen
  Link zu dem jeweiligen Zoom-Raum. Bitte achtet darauf rechtzeitig die Tec
 hnik vorzubereiten (Zoom herunterladen\, funktionieren WLAN\, Ton\, Mikrof
 on und ggf. Aparat fotograficzny?). Achtet auf eine ruhige Umgebung\, bereitet euch selb
 st ausreichend Trinken und Essen vor. Ale będą też przerwy. Wir 
 bitten alle die eigenen Mikrofone zu deaktivieren\, wenn nicht selbst gesp
 rochen wird. Eure Kamera wird nicht dauerhaft laufen.\n\nMit freundlicher 
 Unterstützung der Amadeu Antonio Stiftung
CATEGORIES:workshop
END:VEVENT
BEGIN:VTIMEZONE
TZID:Europe/Berlin
X-LIC-LOCATION:Europe/Berlin
BEGIN:DAYLIGHT
DTSTART:20200329T030000
TZOFFSETFROM:+0100
TZOFFSETTO:+0200
TZNAME:CEST
END:DAYLIGHT
END:VTIMEZONE
END:VCALENDAR