BEGIN:VCALENDAR
VERSION:2.0
PRODID:-//wp-events-plugin.com//7.0.5//EN
TZID:Europe/Berlin
X-WR-TIMEZONE:Europe/Berlin
BEGIN:VEVENT
UID:7219@die-dezentrale.net
DTSTART;TZID=Europe/Berlin:20200625T140000
DTEND;TZID=Europe/Berlin:20200625T170000
DTSTAMP:20200611T163848Z
URL:https://www.die-dezentrale.net/events/webinar-spokenword-als-mittel-de
 s-empowerments-reihe-alltagsrassismus/
SUMMARY:نقاش عبر الويب: الكلمة المنطوقة كوسيلة للتمكين | خط "Alltagsras
 sismus"
DESCRIPTION:حدث كجزء من سلسلة ندوات عبر الإنترنت "العنصرية اليومية"\nEr
 scheinungsformen und Umgang damit in der Kinder- und Jugendarbeit\n\nInfor
 mationen beim Mädchenhaus Kassel\n\nWorkshop 4 | SpokenWord als Mittel de
 s Empowerments - Workshop für B*PoC Multiplikator*innen\nReferent*innen: 
 شيرين (@sherryaeri) و شينان (@diaspor.art)\, Enbaobibi Kollektiv \n\nMi
 t Sprache zu spielen\, zu reimen\, laut zu sein\, Perspektiven zu teilen u
 nd Narrative selbst zu bestimmen bedeutet Widerstand und Selbstermächtigu
 ng. قصصنا تمكننا ومجتمعاتنا. In diesen drei
  Stunden werden auf kreative Art und Weise Zugänge zu Selbst Empowerment 
 und Empowerment-Praktiken in der Jugendarbeit vermittelt. Wie kann Spoken 
 Word Safer Spaces \n\n\nBitte achtet darauf\, dass dieser Workshop ausschl
 ießlichfür B*PoC-Multiplikator*innen ist\, هذا يعني لجميع الناس
 \, die nicht Weiß sind.\n\n&nbsp\;\n\n\n\nDetails zur Veranstaltungsreihe
 : \n\nOrganisatorisches \n\nWann? 10.06.2020-25.06.2020\nWo? Im Internet\,
  Via Zoom\nKosten: frei\nAnmeldung: über die Frauenbeauftragte der Stadt 
 Kassel: ممثل المرأة[ät]kassel.de\nBitte gebt bei der Anmeldung an\,
  في أي من ورش العمل تريد المشاركة. Es können beliebig viele 
 gewählt werden.\n\nWebinar-Reihe „Alltagsrassismus“\n\nWir gehen davo
 n aus\, dass es für Menschen\, die mit Kindern und Jugendlichen arbeiten 
 weitestgehend Konsens ist\, نبذ العنصرية. Das ist schon mal eine V
 oraussetzung um allen jungen Menschen mit denen wir arbeiten\, einen ‚Sa
 fer Space‘ bieten zu können. Das ist allerdings auch einer der Aspekte\
 , warum es schwierig ist\, ال (معظم الوقت) subtileren\, alltäglich auftretend
 en Formen von Rassismus zu thematisieren.Mit dieser Veranstaltung wollen w
 ir – im zweiten Anlauf online - جربها! Wir laden Euch ein\
 , افعل نفس الشيء معنا. يتم تقديم سلسلة الويبينار هذه من قبل: Mädchen
 haus Kassel\, Jugendbildungswerk des Landkreises Kassel\, من الأطفال- und 
 Jugendförderung der Stadt Kassel\, der Frauenbeauftragten des Landkreises
  Kassel\, dem Frauenbüro der Stadt Kassel\, dem Netzwerk gegen Gewalt Hes
 sen und Dynamo Windrad In dieser Kooperation haben wir bereits im April 20
 19 ينظم مؤتمر &quot;ايجابية الجسم&quot;. Aus diesem ist der dies
 jährige Fachtag entstanden\, والتي للأسف يجب أن تتم الآن عبر الإنترنت. Der 
 Bedarf einer intensiven Auseinandersetzung mit dem Thema Alltagsrassismus 
 wird in heutigen Zeiten immer deutlicher.\n\n\n 	10.06. | „Einen Gleichw
 ertigkeitszauber wirken lassen“ - Impulse für eine rassismuskritische u
 nd empowermentorientierte Jugendarbeit\n 	16.06. | Hass und Hetze im Netz\
 n 	23.06. | &quot;ولكنك تتكلم الالمانيه جيدا!“ Wir sprechen über Alltags
 rassismus in Sprache\n 	25.06. | SpokenWord als Mittel des Empowerments Wo
 rkshop für B*PoC Multiplikator*innen\n\nBitte achtet darauf\, dass Worksh
 op 4 ausschließlichfür B*PoC-Multiplikator*innen ist\, das heißt für a
 lle Menschen\, die nicht Weiß sind.\n\nNach der Anmeldung erhaltet ihr mi
 t der Bestätigung einen Link zu dem jeweiligen Zoom-Raum. Bitte achtet da
 rauf rechtzeitig die Technik vorzubereiten (Zoom herunterladen\, funktioni
 eren WLAN\, Ton\, الميكروفون وربما. الكاميرا?). Achtet auf eine ruhige Umgeb
 ung\, تعد نفسك ما يكفي من الشرب والأكل. Es wird aber
  auch Pausen geben. Wir bitten alle die eigenen Mikrofone zu deaktivieren\
 , إذا كنت لا تتحدث نفسك. Eure Kamera wird nicht dauerhaft lauf
 en.\n\nMit freundlicher Unterstützung der Amadeu Antonio Stiftung
CATEGORIES:workshop
END:VEVENT
BEGIN:VTIMEZONE
TZID:Europe/Berlin
X-LIC-LOCATION:Europe/Berlin
BEGIN:DAYLIGHT
DTSTART:20200329T030000
TZOFFSETFROM:+0100
TZOFFSETTO:+0200
TZNAME:CEST
END:DAYLIGHT
END:VTIMEZONE
END:VCALENDAR