BEGIN:VCALENDAR
VERSION:2.0
PRODID:-//wp-events-plugin.com//7.0.5//EN
TZID:Europe/Berlin
X-WR-TIMEZONE:Europe/Berlin
BEGIN:VEVENT
UID:13179@die-dezentrale.net
DTSTART;TZID=Europe/Berlin:20250329T100000
DTEND;TZID=Europe/Berlin:20250329T150000
DTSTAMP:20250305T101944Z
URL:https://www.die-dezentrale.net/events/werkstatt-flaechen-mengen-und-pr
 ognosen-wo-sollten-in-den-naechsten-20-jahren-in-baunatal-wie-viele-und-we
 lche-wohnungen-entstehen/
SUMMARY:Workshop: Flächen\, Quantities and forecasts: Wo sollten in den näch
 sten 20 Years in Baunatal how many and which apartments are created?
DESCRIPTION:Baunatal braucht auch künftig neuen Wohnraum\, aber wo und wie
  viel? This has been discussed in the city for many months. Da
 her wurde im Auftrag der Stadt Baunatal unter der Leitung von Prof. Dr. Uw
 e Altrock der Universität Kassel eine Studie beauftragt zu Möglichkeiten
  und Strategieansätzen für die Wohnungsentwicklung. Die Ergebnisse werde
 n am 6. March presented in the Baunatal town hall. Anschließend finde
 n im Rahmen des Projekts SDG+ Lab von März bis Oktober 2025 Werkstätten 
 mit den Baunataler:innen statt\, um die Zukunft des Wohnens in Baunatal zu
  gestalten.\n\nInsgesamt sechs Werkstätten bieten Raum zur Diskussion und
  gemeinsamen Arbeit und bringen Politik und Verwaltung\, Unternehmen\, Gru
 ndstückseigentümer:inside and residents:inside. Im Austausch wer
 den Wünsche und Bedürfnisse der Menschen vor Ort einbezogen\, In front- und N
 achteile verschiedener Konzepte diskutiert und Empfehlungen für die Stadt
 entwicklung abgeleitet. Interessierte sind herzlich eingeladen die Zukunft
  des Wohnens in Baunatal mitzugestalten.\nTermine:\n\nAuftakt\n6. March 20
 25\, 18:00 Uhr\n„Zukünftige Wohnraumentwicklung in Baunatal“\, Präse
 ntation der Studienergebnisse\n\nFlächen\, Quantities and forecasts: \nWo sol
 lten in den nächsten 20 Jahren in Baunatal wie viele und welche Wohnungen
  entstehen?\n27. March 2025\, 18:30-20:30 Uhr Einführungsvorträge und Po
 diumsdiskussion\n29. March 2025\, 10-15 Uhr Werkstatt\n\nMöglichkeiten de
 r Weiterentwicklung von Einfamilienhausgebieten\n24. April 2025\, 18:30-20
 :30 Uhr Einführungsvorträge und Podiumsdiskussion\n26. April 2025\, 10-1
 5 Uhr Werkstatt\n\nMöglichkeiten der Weiterentwicklung von Ortskernen und
  Einzelhandelsflächen\n23. May 2025\, 18:30-20:30 Uhr Einführungsvorträ
 ge und Podiumsdiskussion\n24. May 2025\, 10-15 Uhr Werkstatt\n\nMöglichke
 iten der Weiterentwicklung von Konversionsflächen\n22. August 2025\, 18:3
 0-20:30 Uhr Einführungsvorträge und Podiumsdiskussion\n23. August 2025\,
  10-15 Uhr Werkstatt\n\nMöglichkeiten der Weiterentwicklung von Nachverdi
 chtung im Geschosswohnungsbau\n4. September 2025\, 18:30-20:30 Uhr Einfüh
 rungsvorträge und Podiumsdiskussion 5\n6. September 2025\, 10-15 Uhr Werk
 statt 5\n\nAußenentwicklungsflächen: Wie sollten Stadterweiterungsfläch
 en bebaut werden\, If this should be necessary?\n24. October 202
 5\, 18:30-20:30 Uhr Einführungsvorträge und Podiumsdiskussion\n25. Oktob
 er 2025\, 10-15 Uhr Werkstatt\n\nAlle Veranstaltungen finden in der Stadth
 alle Baunatal statt.\n\nMehr Informationen und Anmeldung: www.sdgpluslab.d
 e/baunatal\n\n&nbsp\;\n\n&nbsp\;
ATTACH;FMTTYPE=image/jpeg:https://www.die-dezentrale.net/wp-content/upload
 s/2025/03/2025-03-04_Sharepic_Perspektive_Baunatal_GD.jpg
END:VEVENT
BEGIN:VTIMEZONE
TZID:Europe/Berlin
X-LIC-LOCATION:Europe/Berlin
BEGIN:STANDARD
DTSTART:20241027T020000
TZOFFSETFROM:+0200
TZOFFSETTO:+0100
TZNAME:CET
END:STANDARD
END:VTIMEZONE
END:VCALENDAR