BEGIN:VCALENDAR
VERSION:2.0
PRODID:-//wp-events-plugin.com//7.0.5//EN
TZID:Europe/Berlin
X-WR-TIMEZONE:Europe/Berlin
BEGIN:VEVENT
UID:8551@die-dezentrale.net
DTSTART;TZID=Europe/Berlin:20211106T110000
DTEND;TZID=Europe/Berlin:20211106T150000
DTSTAMP:20211029T195628Z
URL:https://www.die-dezentrale.net/events/workshop-schreiben-aus-der-eigen
 perspektive/
SUMMARY:Warsztat: Schreiben aus der EIGENperspektive
DESCRIPTION:Die Veranstaltungsreihe „stay soft and radical“ geht zu End
 e. Den Abschluss macht der Workshop „Schreiben aus der EIGENperspektive
 “ mit SchwarzRund.\nDer Workshop findet am 6. listopad 2021 von 11-15 Uh
 r auf zoom statt. A są jeszcze wolne miejsca!\n\nÜber den Workshop\nO
 b langes Romanprojekt\, kurzes Gedicht\, erster Blogtext oder\, oder\, ode
 r. Dla osób zmarginalizowanych pojawiają się różne pytania dotyczące:. Re
 präsentation\, Sprachwahl\, (a-)celowe mówienie za wszystkich itp.. Gemein
 sam und einzeln wird ausgehandelt\, jakie są strategie? 081
 5 Książek do pisania nie można znaleźć. Sprache\, Kunst\, Politik und Ausd
 ruck sind verwoben\, über uns selber Schreiben ist schwer wenn wir es gew
 ohnt sind das ÜBER uns geredet wird statt mit uns.\nSchwarzRund gibt Einb
 licke in ihre Schreibpraxen\, teilt all die wichtigen Ressourcen die euch 
 das Schreiben in Zukunft vereinfachen werden und macht vorallem eines deut
 lich: Schreiben ist ein Handwerk\, das stets weiter erlernt werden kann.\n
 \nÜber SchwarzRund\nSchwarzRund (oni / oni / @) kam als Schwarze Deutsche Do
 minikaner*in mit drei Jahren nach Bremen\, lebt seit über einem Jahrzehnt
  in Berlin. Auf schwarzrund.de und in diversen Magazinen schreibt sie zu M
 ehrdimensionalen Lebensrealitäten inner- i poza społecznościami. D
 as verhandelt sie auch auf der Bühne als Referent*in und Poet*in. Im Bach
 elor und Master studierte sie Kulturwissenschaften und Gender Studies. Ihr
  Forschungsschwerpunkt sind Queere Schwarze Interventionen und Afrx-Latinx
  Identitäten. Derzeit promoviert sie in der Forschungsgruppe Contested De
 mocracy der Universität Erfurt.\n2016 Afroqueerer Roman BISKAYA\n2020 Afr
 oqueere Novelle Quasi / ach.Je Verlag\n@SchwarzRund überall\nPodcast zu u
 n_sichtbaren Behinderungen Rampe? Wystarczająco! rampereicht.de\n\nAnmeldung und 
 Fragen\nDa die Teilnahme-Anzahl begrenzt ist\, bitten wir um eine Anmeldun
 g an unsere Mail-Adresse.\nGerne kannst du dich auch bei Fragen zum Worksh
 op an uns wenden. Auch wenn dir noch Informationen fehlen\, um gut an dem 
 Workshop teilnehmen zu können\, gib gerne Bescheid.\nMail-Adresse: queerk
 assel[w]riseup.net\n\nVeranstalter*innen\nDer Workshop ist teil der Veran
 staltungsreihe „stay soft and radical“. Die Veranstaltungsreihe wird o
 rganisiert durch den local e. V. und qrew Kassel und gefördert durch die 
 Hannchen-Mehrzweck-Stiftung\nwww.hms-stiftung.de  
CATEGORIES:workshop
END:VEVENT
BEGIN:VTIMEZONE
TZID:Europe/Berlin
X-LIC-LOCATION:Europe/Berlin
BEGIN:STANDARD
DTSTART:20211031T020000
TZOFFSETFROM:+0200
TZOFFSETTO:+0100
TZNAME:CET
END:STANDARD
END:VTIMEZONE
END:VCALENDAR