BEGIN:VCALENDAR
VERSION:2.0
PRODID:-//wp-events-plugin.com//7.0.5//EN
TZID:Europe/Berlin
X-WR-TIMEZONE:Europe/Berlin
BEGIN:VEVENT
UID:7626@die-dezentrale.net
DTSTART;TZID=Europe/Berlin:20200919T140000
DTEND;TZID=Europe/Berlin:20200919T170000
DTSTAMP:20200823T142750Z
URL:https://www.die-dezentrale.net/events/workshop-was-ist-jineoloji/
SUMMARY:Workshop: "What is Jineolojî?"
DESCRIPTION:Wir laden herzlich alle interessierten Frauen\, inter­\, trans
  sowie nicht\nbinäre Personen zu unserer zweiten Jineolojî- education:
 \n\nAuf der Suche nach Freiheit baut die kurdische Frauenbewegung eine neu
 e\, revolutionary science. Diese feministische Geschichte will zu
 sammenbringen\, Widerstand organisieren und dominante Mannlichkeit überwi
 nden. But what does that have to do with us?\n\nBei der letzten Bildung am 08.08
 . haben wir für den ersten Teil\, der kurdische Bewegungsgeschichte behan
 delt hat\, länger gebraucht als geplant\, weshalb wir garnicht zum inhalt
 lichen Part zur Jineolojî gekommen sind. Das holen wir jetzt in einer zwe
 iten Bildung nach. Diese schließt somit inhaltlich an die erste Bildung a
 n\, für die zweite\nBildung ist die Teilnahme an der ersten Bildung aber 
 keine Voraussetzung. Falls es während der Bildung doch mal dazu kommt\, d
 ass wir auf den ersten Teil der Bildung zuückkommen oder Fragen aufkommen
 \, versuchen wir die gemeinsam zu klären und Vorwissen aus der ersten Bil
 dung zu teilen.\n\nDie Bildung wird auf Englisch gehalten\, die Freundin\,
  die sie hält\, versteht aber auch Deutsch\, weshalb man Englisch nur ver
 stehen\, but doesn&#039;t have to be able to speak. Falls du kein Englisch kannst o
 der nicht genug\, um der Bildung folgen zu können\, sag uns Bescheid und 
 wir organisieren eine Flüster- Übersetzung.\n\nGib uns bitte per Email e
 ine Rückmeldung an women-defend-rojava-ks@riseup.net\, wenn du teilnehmen
  willst. Den Ort werden wir dann kurz vor der Bildung per Email bekannt ge
 ben.\n\nOrganisiert von Women Defend Rojava Kassel
CATEGORIES:workshop
LOCATION:Somewhere else (tba) | Veranstaltungsort\, siehe Veranstaltungsdetails\,
  Germany
GEO:51.315716;9.497871
X-APPLE-STRUCTURED-LOCATION;VALUE=URI;X-ADDRESS=Veranstaltungsort\, siehe V
 eranstaltungsdetails\, Germany;X-APPLE-RADIUS=100;X-TITLE=Woanders (tba):g
 eo:51.315716,9.497871
END:VEVENT
BEGIN:VTIMEZONE
TZID:Europe/Berlin
X-LIC-LOCATION:Europe/Berlin
BEGIN:DAYLIGHT
DTSTART:20200329T030000
TZOFFSETFROM:+0100
TZOFFSETTO:+0200
TZNAME:CEST
END:DAYLIGHT
END:VTIMEZONE
END:VCALENDAR