BEGIN:VCALENDAR
VERSION:2.0
PRODID:-//wp-events-plugin.com//7.0.5//EN
TZID:Europe/Berlin
X-WR-TIMEZONE:Europe/Berlin
BEGIN:VEVENT
UID:10690@die-dezentrale.net
DTSTART;TZID=Europe/Berlin:20240427T203000
DTEND;TZID=Europe/Berlin:20240427T203000
DTSTAMP:20240423T132527Z
URL:HTTPS://www.die-dezentrale.net/events/zinken-einer-gabel-wir-wollen-je
 nnifer-rostock-sehen/
SUMMARY:Зубцы вилки + Krachwalze
DESCRIPTION:Zinken einer Gabel ist eine 2020 gegründete Progressive Rockba
 nd aus Nordhessen. Die Eigenkompositionen der Band vermischen die Stile de
 r 70er Progbands wie Jethro Tull\, Genesis und Gentle Giant mit Einflüsse
 n von Folk\, Джаз и классическая музыка. Ein besonderer Fokus liegt dabei 
 auf mehrstimmigen Gesangsarrangements\, rockuntypischen Instrumenten wie P
 osaune\, Geige oder Saxophon kombiniert mit komplexen Rhythmen und Harmoni
 en.\n\nBesetzung:\nHannes Hirth – Keyboards\, Gesang\, Saxophon\nFriedri
 ch Hirth – Gesang\, Posaune\, E-Geige und Gitarren\nKalle Stein-Hirth 
 – Schlagzeug\, Gesang\nLeon Ellenberger – E-Bass\, Gesang\n\nhttps://z
 inkeneinergabel.bandcamp.com/album/the-inconvenience-store\n\n\nKrachwalze
  sind eine wilde Mischung aus Politik und Unsinn\, Les Trucs und Dillinger
  Escape Plan\, Яка и Руммельснаф. Prägend für den Sound von Krachwalz
 e sind die Texte von Hans Sprungfeld\, die oft sehr kurz und prägnant sin
 d und würde es ihn verdammt nochmal umbringen wenigstens manchmal ein nor
 males Versmaß zu benutzen oder wenigstens ein grundlegendes Verständnis 
 für Rhythmik zu haben?!\nSorry zurück zum Pressetext: Dadurch\, dass der
  Sänger sowas wie ein Outsider Musiker ist\, muss der Einzige in dieser B
 and\, der was von Musik versteht\, тогда собери осколки. Das Ergebni
 s sind oft sehr komplexe Songstrukturen\, распределено по 30 Sekunden bis man
 chmal zu einer Minute. Achso ja\, alle Songs sind auf einem modifizierten 
 DMG Gameboy von 1989 programmiert.\nIhre neuste Idee ist mit möglichst ra
 dikalen Aussagen in den Bericht des Verfassungsschutzes aufgenommen zu wer
 den und so zu überregionaler Berühmtheit und Beliebtheit zu gelangen\, o
 bwohl die Musik scheiße ist. Bei Feine Sahne Fisch Filet hat das ja auch 
 geklappt.\n\nhttps://youtu.be/_cK3kEifEqc?feature=shared\n\n\nEinlass ab 2
 0 Часы / Начать с 20:30 Uhr\n\nDas Konzert findet im Subterrain des Sander
 shaus statt.\n\nEintritt: 8 - 12 €\n\n\nFoto von Friedrich Hirth\n
ATTACH;FMTTYPE=image/jpeg:HTTPS://www.die-dezentrale.net/wp-content/upload
 s/2024/03/Pressefoto-Zinken-einer-Gabel_Friedrich-Hirth_bearbeitet.jpeg
CATEGORIES:konzert
LOCATION:Sandershaus | Sander Straße 79\, Kassel\, 34123\, Гер
 мания
GEO:51.31061;9.52756
X-APPLE-STRUCTURED-LOCATION;VALUE=URI;X-ADDRESS=Sandershäuser Straße 79\,
  Kassel\, 34123\, Германия;X-APPLE-RADIUS=100;X-TITLE=Sandershaus:
 geo:51.31061,9.52756
END:VEVENT
BEGIN:VTIMEZONE
TZID:Europe/Berlin
X-LIC-LOCATION:Europe/Berlin
BEGIN:DAYLIGHT
DTSTART:20240331T030000
TZOFFSETFROM:+0100
TZOFFSETTO:+0200
TZNAME:CEST
END:DAYLIGHT
END:VTIMEZONE
END:VCALENDAR